Workbook

Sheet Introducció
B6: EINA DE SUPORT a la
B7: Guia de recomanacions sobre bonificacions fiscals a
B8: l’Impost sobre béns immobles (IBI)
B9: i transició energètica justa
B12: Conjuntament amb la guia, us oferim una eina de càlcul per ajustar diversos paràmetres concrets de les Ordenances fiscals (OOFF) de l’IBI a partir de les quotes mitjanes d’IBI al vostre ajuntament per habitatge unifamiliars, plurifamiliars i ús diferent al residencial. L’eina us permetrà ajustar millor els criteris i recomanacions d’aquesta guia a la vostra realitat municipal a través dels paràmetres de: percentatge de bonificació de l’IBI – fins a un màxim del 50% -, topalls i/o anys de durada de la bonificació.
B18: Crèdits | J18: Versió 1.0
J19: 46292
B21: Elaborada per la Gerència de Serveis d'Acció Climàtica
B22: En col·laboració amb l'Organisme de Gestió Tributària de la Diputació de Barcelona
B24: Coordinació:
B25: Enric Coll Gelabert, Secretaria tècnica de la Xarxa de Ciutats i Pobles cap a la Sostenibilitat
B26: Albert Vendrell, cap de la Secció de Transició Energètica i Descarbonització de la Diputació de Barcelona
B27: Cristina Casablanca Juez, Cristina Prieto Bernárdez i Susana Delgado Monturiol, Organisme de Gestió Tributària de la Diputació de Barcelona
B29: Equip redactor:
B30: Gaia D'Elia, BATEC - Pol cooperatiu per la transició energètica
B31: Sara Fusté i Boja Olives, Aiguasol Consulting SCCL.

Sheet Escenari 1
A1: ESTRATÈGIA 1
A3: Hipòtesis
A4: Ràtio cost instal·lació (€/kWn) | B4: 1.1
A6: Casos a analitzar | B6: Unifamiliar | C6: Plurifamiliar | D6: Terciari
A7: Quota IBI | B7: 800 | C7: 400 | D7: 19000
A8: Supòsit A, B i C
A9: Topall | B9: 300 | C9: 300 | D9: 4000
A10: Intensitat màxima | B10: 0.5 | C10: 0.5 | D10: 0.5
A11: Durada | B11: 2 | C11: 5 | D11: 2
A12: Supòsit E (Comunitat Energètica)
A13: Topall | B13: =B9*2 -> 600 | C13: =C9*2 -> 600 | D13: =D9*2 -> 8000
A14: Intensitat màxima | B14: 0.5 | C14: 0.5 | D14: 0.5
A15: Durada | B15: 2 | C15: 5 | D15: 2
A16: Unifamiliars i Terciaris: Topall: 300€ Intensitat: 50% Durada: 2 anys Plurifamiliars: Topall: 300€ Intensitat: 50% Durada: 5 anys CE: Ídem, però topall x2 ------------------------- Els pluri no tenen cap aventatge per ser CE. Uni i terciari sí
B18: =A8 -> Supòsit A, B i C | H18: =A12 -> Supòsit E (Comunitat Energètica)
B19: Bonificació IBI | E19: Intensitat sobre la inversió | H19: Bonificació IBI | K19: Intensitat sobre la inversió
A20: Potència instal·lada (kWn) | B20: =B6 -> Unifamiliar | C20: =C6 -> Plurifamiliar | D20: =D6 -> Terciari | E20: Unifamiliar | F20: Plurifamiliar | G20: Terciari | H20: =B20 -> Unifamiliar | I20: =C20 -> Plurifamiliar | J20: =D20 -> Terciari | K20: =E20 -> Unifamiliar | L20: =F20 -> Plurifamiliar | M20: =G20 -> Terciari
A21: 0.5 | B21: =IF($A21<1,0,MIN(MIN(B$7*B$10,B$9)*B$11,$A21*$B$4*1000)) -> 0 | C21: =IF($A21<0,0,MIN(MIN(C$7*C$10,C$9)*C$11,$A21*$B$4*1000)) -> 550 | D21: =IF($A21<1,0,MIN(MIN(D$7*D$10,D$9)*D$11,$A21*$B$4*1000)) -> 0 | E21: =B21/($B$4*$A21*1000) -> 0 | F21: =C21/($B$4*$A21*1000) -> 1 | G21: =D21/($B$4*$A21*1000) -> 0 | H21: =IF($A21<1,0,MIN(MIN(B$7*B$14,B$13)*B$15,$A21*$B$4*1000)) -> 0 | I21: =IF($A21<0,0,MIN(MIN(C$7*C$14,C$13)*C$15,$A21*$B$4*1000)) -> 550 | J21: =IF($A21<1,0,MIN(MIN(D$7*D$14,D$13)*D$15,$A21*$B$4*1000)) -> 0 | K21: =H21/($B$4*$A21*1000) -> 0 | L21: =I21/($B$4*$A21*1000) -> 1 | M21: =J21/($B$4*$A21*1000) -> 0
A22: =A21+0.5 -> 1 | B22: =IF($A22<1,0,MIN(MIN(B$7*B$10,B$9)*B$11,$A22*$B$4*1000)) -> 600 | C22: =IF($A22<0,0,MIN(MIN(C$7*C$10,C$9)*C$11,$A22*$B$4*1000)) -> 1000 | D22: =IF($A22<1,0,MIN(MIN(D$7*D$10,D$9)*D$11,$A22*$B$4*1000)) -> 1100 | E22: =B22/($B$4*$A22*1000) -> 0.54545455 | F22: =C22/($B$4*$A22*1000) -> 0.90909091 | G22: =D22/($B$4*$A22*1000) -> 1 | H22: =IF($A22<1,0,MIN(MIN(B$7*B$14,B$13)*B$15,$A22*$B$4*1000)) -> 800 | I22: =IF($A22<1,0,MIN(MIN(C$7*C$14,C$13)*C$15,$A22*$B$4*1000)) -> 1000 | J22: =IF($A22<1,0,MIN(MIN(D$7*D$14,D$13)*D$15,$A22*$B$4*1000)) -> 1100 | K22: =H22/($B$4*$A22*1000) -> 0.72727273 | L22: =I22/($B$4*$A22*1000) -> 0.90909091 | M22: =J22/($B$4*$A22*1000) -> 1
A23: =A22+0.5 -> 1.5 | B23: =IF($A23<1,0,MIN(MIN(B$7*B$10,B$9)*B$11,$A23*$B$4*1000)) -> 600 | C23: =IF($A23<0,0,MIN(MIN(C$7*C$10,C$9)*C$11,$A23*$B$4*1000)) -> 1000 | D23: =IF($A23<1,0,MIN(MIN(D$7*D$10,D$9)*D$11,$A23*$B$4*1000)) -> 1650 | E23: =B23/($B$4*$A23*1000) -> 0.36363636 | F23: =C23/($B$4*$A23*1000) -> 0.60606061 | G23: =D23/($B$4*$A23*1000) -> 1 | H23: =IF($A23<1,0,MIN(MIN(B$7*B$14,B$13)*B$15,$A23*$B$4*1000)) -> 800 | I23: =IF($A23<1,0,MIN(MIN(C$7*C$14,C$13)*C$15,$A23*$B$4*1000)) -> 1000 | J23: =IF($A23<1,0,MIN(MIN(D$7*D$14,D$13)*D$15,$A23*$B$4*1000)) -> 1650 | K23: =H23/($B$4*$A23*1000) -> 0.48484848 | L23: =I23/($B$4*$A23*1000) -> 0.60606061 | M23: =J23/($B$4*$A23*1000) -> 1
A24: =A23+0.5 -> 2 | B24: =IF($A24<1,0,MIN(MIN(B$7*B$10,B$9)*B$11,$A24*$B$4*1000)) -> 600 | C24: =IF($A24<0,0,MIN(MIN(C$7*C$10,C$9)*C$11,$A24*$B$4*1000)) -> 1000 | D24: =IF($A24<1,0,MIN(MIN(D$7*D$10,D$9)*D$11,$A24*$B$4*1000)) -> 2200 | E24: =B24/($B$4*$A24*1000) -> 0.27272727 | F24: =C24/($B$4*$A24*1000) -> 0.45454545 | G24: =D24/($B$4*$A24*1000) -> 1 | H24: =IF($A24<1,0,MIN(MIN(B$7*B$14,B$13)*B$15,$A24*$B$4*1000)) -> 800 | I24: =IF($A24<1,0,MIN(MIN(C$7*C$14,C$13)*C$15,$A24*$B$4*1000)) -> 1000 | J24: =IF($A24<1,0,MIN(MIN(D$7*D$14,D$13)*D$15,$A24*$B$4*1000)) -> 2200 | K24: =H24/($B$4*$A24*1000) -> 0.36363636 | L24: =I24/($B$4*$A24*1000) -> 0.45454545 | M24: =J24/($B$4*$A24*1000) -> 1
A25: =A24+0.5 -> 2.5 | B25: =IF($A25<1,0,MIN(MIN(B$7*B$10,B$9)*B$11,$A25*$B$4*1000)) -> 600 | C25: =IF($A25<0,0,MIN(MIN(C$7*C$10,C$9)*C$11,$A25*$B$4*1000)) -> 1000 | D25: =IF($A25<1,0,MIN(MIN(D$7*D$10,D$9)*D$11,$A25*$B$4*1000)) -> 2750 | E25: =B25/($B$4*$A25*1000) -> 0.21818182 | F25: =C25/($B$4*$A25*1000) -> 0.36363636 | G25: =D25/($B$4*$A25*1000) -> 1 | H25: =IF($A25<1,0,MIN(MIN(B$7*B$14,B$13)*B$15,$A25*$B$4*1000)) -> 800 | I25: =IF($A25<1,0,MIN(MIN(C$7*C$14,C$13)*C$15,$A25*$B$4*1000)) -> 1000 | J25: =IF($A25<1,0,MIN(MIN(D$7*D$14,D$13)*D$15,$A25*$B$4*1000)) -> 2750 | K25: =H25/($B$4*$A25*1000) -> 0.29090909 | L25: =I25/($B$4*$A25*1000) -> 0.36363636 | M25: =J25/($B$4*$A25*1000) -> 1
A26: =A25+0.5 -> 3 | B26: =IF($A26<1,0,MIN(MIN(B$7*B$10,B$9)*B$11,$A26*$B$4*1000)) -> 600 | C26: =IF($A26<0,0,MIN(MIN(C$7*C$10,C$9)*C$11,$A26*$B$4*1000)) -> 1000 | D26: =IF($A26<1,0,MIN(MIN(D$7*D$10,D$9)*D$11,$A26*$B$4*1000)) -> 3300 | E26: =B26/($B$4*$A26*1000) -> 0.18181818 | F26: =C26/($B$4*$A26*1000) -> 0.3030303 | G26: =D26/($B$4*$A26*1000) -> 1 | H26: =IF($A26<1,0,MIN(MIN(B$7*B$14,B$13)*B$15,$A26*$B$4*1000)) -> 800 | I26: =IF($A26<1,0,MIN(MIN(C$7*C$14,C$13)*C$15,$A26*$B$4*1000)) -> 1000 | J26: =IF($A26<1,0,MIN(MIN(D$7*D$14,D$13)*D$15,$A26*$B$4*1000)) -> 3300 | K26: =H26/($B$4*$A26*1000) -> 0.24242424 | L26: =I26/($B$4*$A26*1000) -> 0.3030303 | M26: =J26/($B$4*$A26*1000) -> 1
A27: =A26+0.5 -> 3.5 | B27: =IF($A27<1,0,MIN(MIN(B$7*B$10,B$9)*B$11,$A27*$B$4*1000)) -> 600 | C27: =IF($A27<0,0,MIN(MIN(C$7*C$10,C$9)*C$11,$A27*$B$4*1000)) -> 1000 | D27: =IF($A27<1,0,MIN(MIN(D$7*D$10,D$9)*D$11,$A27*$B$4*1000)) -> 3850 | E27: =B27/($B$4*$A27*1000) -> 0.15584416 | F27: =C27/($B$4*$A27*1000) -> 0.25974026 | G27: =D27/($B$4*$A27*1000) -> 1 | H27: =IF($A27<1,0,MIN(MIN(B$7*B$14,B$13)*B$15,$A27*$B$4*1000)) -> 800 | I27: =IF($A27<1,0,MIN(MIN(C$7*C$14,C$13)*C$15,$A27*$B$4*1000)) -> 1000 | J27: =IF($A27<1,0,MIN(MIN(D$7*D$14,D$13)*D$15,$A27*$B$4*1000)) -> 3850 | K27: =H27/($B$4*$A27*1000) -> 0.20779221 | L27: =I27/($B$4*$A27*1000) -> 0.25974026 | M27: =J27/($B$4*$A27*1000) -> 1
A28: =A27+0.5 -> 4 | B28: =IF($A28<1,0,MIN(MIN(B$7*B$10,B$9)*B$11,$A28*$B$4*1000)) -> 600 | C28: =IF($A28<0,0,MIN(MIN(C$7*C$10,C$9)*C$11,$A28*$B$4*1000)) -> 1000 | D28: =IF($A28<1,0,MIN(MIN(D$7*D$10,D$9)*D$11,$A28*$B$4*1000)) -> 4400 | E28: =B28/($B$4*$A28*1000) -> 0.13636364 | F28: =C28/($B$4*$A28*1000) -> 0.22727273 | G28: =D28/($B$4*$A28*1000) -> 1 | H28: =IF($A28<1,0,MIN(MIN(B$7*B$14,B$13)*B$15,$A28*$B$4*1000)) -> 800 | I28: =IF($A28<1,0,MIN(MIN(C$7*C$14,C$13)*C$15,$A28*$B$4*1000)) -> 1000 | J28: =IF($A28<1,0,MIN(MIN(D$7*D$14,D$13)*D$15,$A28*$B$4*1000)) -> 4400 | K28: =H28/($B$4*$A28*1000) -> 0.18181818 | L28: =I28/($B$4*$A28*1000) -> 0.22727273 | M28: =J28/($B$4*$A28*1000) -> 1
A29: =A28+0.5 -> 4.5 | B29: =IF($A29<1,0,MIN(MIN(B$7*B$10,B$9)*B$11,$A29*$B$4*1000)) -> 600 | C29: =IF($A29<0,0,MIN(MIN(C$7*C$10,C$9)*C$11,$A29*$B$4*1000)) -> 1000 | D29: =IF($A29<1,0,MIN(MIN(D$7*D$10,D$9)*D$11,$A29*$B$4*1000)) -> 4950 | E29: =B29/($B$4*$A29*1000) -> 0.12121212 | F29: =C29/($B$4*$A29*1000) -> 0.2020202 | G29: =D29/($B$4*$A29*1000) -> 1 | H29: =IF($A29<1,0,MIN(MIN(B$7*B$14,B$13)*B$15,$A29*$B$4*1000)) -> 800 | I29: =IF($A29<1,0,MIN(MIN(C$7*C$14,C$13)*C$15,$A29*$B$4*1000)) -> 1000 | J29: =IF($A29<1,0,MIN(MIN(D$7*D$14,D$13)*D$15,$A29*$B$4*1000)) -> 4950 | K29: =H29/($B$4*$A29*1000) -> 0.16161616 | L29: =I29/($B$4*$A29*1000) -> 0.2020202 | M29: =J29/($B$4*$A29*1000) -> 1
A30: =A29+0.5 -> 5 | B30: =IF($A30<1,0,MIN(MIN(B$7*B$10,B$9)*B$11,$A30*$B$4*1000)) -> 600 | C30: =IF($A30<0,0,MIN(MIN(C$7*C$10,C$9)*C$11,$A30*$B$4*1000)) -> 1000 | D30: =IF($A30<1,0,MIN(MIN(D$7*D$10,D$9)*D$11,$A30*$B$4*1000)) -> 5500 | E30: =B30/($B$4*$A30*1000) -> 0.10909091 | F30: =C30/($B$4*$A30*1000) -> 0.18181818 | G30: =D30/($B$4*$A30*1000) -> 1 | H30: =IF($A30<1,0,MIN(MIN(B$7*B$14,B$13)*B$15,$A30*$B$4*1000)) -> 800 | I30: =IF($A30<1,0,MIN(MIN(C$7*C$14,C$13)*C$15,$A30*$B$4*1000)) -> 1000 | J30: =IF($A30<1,0,MIN(MIN(D$7*D$14,D$13)*D$15,$A30*$B$4*1000)) -> 5500 | K30: =H30/($B$4*$A30*1000) -> 0.14545455 | L30: =I30/($B$4*$A30*1000) -> 0.18181818 | M30: =J30/($B$4*$A30*1000) -> 1
A31: =A30+0.5 -> 5.5 | B31: =IF($A31<1,0,MIN(MIN(B$7*B$10,B$9)*B$11,$A31*$B$4*1000)) -> 600 | C31: =IF($A31<0,0,MIN(MIN(C$7*C$10,C$9)*C$11,$A31*$B$4*1000)) -> 1000 | D31: =IF($A31<1,0,MIN(MIN(D$7*D$10,D$9)*D$11,$A31*$B$4*1000)) -> 6050 | E31: =B31/($B$4*$A31*1000) -> 0.099173554 | F31: =C31/($B$4*$A31*1000) -> 0.16528926 | G31: =D31/($B$4*$A31*1000) -> 1 | H31: =IF($A31<1,0,MIN(MIN(B$7*B$14,B$13)*B$15,$A31*$B$4*1000)) -> 800 | I31: =IF($A31<1,0,MIN(MIN(C$7*C$14,C$13)*C$15,$A31*$B$4*1000)) -> 1000 | J31: =IF($A31<1,0,MIN(MIN(D$7*D$14,D$13)*D$15,$A31*$B$4*1000)) -> 6050 | K31: =H31/($B$4*$A31*1000) -> 0.1322314 | L31: =I31/($B$4*$A31*1000) -> 0.16528926 | M31: =J31/($B$4*$A31*1000) -> 1
A32: =A31+0.5 -> 6 | B32: =IF($A32<1,0,MIN(MIN(B$7*B$10,B$9)*B$11,$A32*$B$4*1000)) -> 600 | C32: =IF($A32<0,0,MIN(MIN(C$7*C$10,C$9)*C$11,$A32*$B$4*1000)) -> 1000 | D32: =IF($A32<1,0,MIN(MIN(D$7*D$10,D$9)*D$11,$A32*$B$4*1000)) -> 6600 | E32: =B32/($B$4*$A32*1000) -> 0.090909091 | F32: =C32/($B$4*$A32*1000) -> 0.15151515 | G32: =D32/($B$4*$A32*1000) -> 1 | H32: =IF($A32<1,0,MIN(MIN(B$7*B$14,B$13)*B$15,$A32*$B$4*1000)) -> 800 | I32: =IF($A32<1,0,MIN(MIN(C$7*C$14,C$13)*C$15,$A32*$B$4*1000)) -> 1000 | J32: =IF($A32<1,0,MIN(MIN(D$7*D$14,D$13)*D$15,$A32*$B$4*1000)) -> 6600 | K32: =H32/($B$4*$A32*1000) -> 0.12121212 | L32: =I32/($B$4*$A32*1000) -> 0.15151515 | M32: =J32/($B$4*$A32*1000) -> 1
A33: =A32+0.5 -> 6.5 | B33: =IF($A33<1,0,MIN(MIN(B$7*B$10,B$9)*B$11,$A33*$B$4*1000)) -> 600 | C33: =IF($A33<0,0,MIN(MIN(C$7*C$10,C$9)*C$11,$A33*$B$4*1000)) -> 1000 | D33: =IF($A33<1,0,MIN(MIN(D$7*D$10,D$9)*D$11,$A33*$B$4*1000)) -> 7150 | E33: =B33/($B$4*$A33*1000) -> 0.083916084 | F33: =C33/($B$4*$A33*1000) -> 0.13986014 | G33: =D33/($B$4*$A33*1000) -> 1 | H33: =IF($A33<1,0,MIN(MIN(B$7*B$14,B$13)*B$15,$A33*$B$4*1000)) -> 800 | I33: =IF($A33<1,0,MIN(MIN(C$7*C$14,C$13)*C$15,$A33*$B$4*1000)) -> 1000 | J33: =IF($A33<1,0,MIN(MIN(D$7*D$14,D$13)*D$15,$A33*$B$4*1000)) -> 7150 | K33: =H33/($B$4*$A33*1000) -> 0.11188811 | L33: =I33/($B$4*$A33*1000) -> 0.13986014 | M33: =J33/($B$4*$A33*1000) -> 1
... A120: =A119+0.5 -> 50 | B120: =IF($A120<1,0,MIN(MIN(B$7*B$10,B$9)*B$11,$A120*$B$4*1000)) -> 600 | C120: =IF($A120<0,0,MIN(MIN(C$7*C$10,C$9)*C$11,$A120*$B$4*1000)) -> 1000 | D120: =IF($A120<1,0,MIN(MIN(D$7*D$10,D$9)*D$11,$A120*$B$4*1000)) -> 8000 | E120: =B120/($B$4*$A120*1000) -> 0.010909091 | F120: =C120/($B$4*$A120*1000) -> 0.018181818 | G120: =D120/($B$4*$A120*1000) -> 0.14545455 | H120: =IF($A120<1,0,MIN(MIN(B$7*B$14,B$13)*B$15,$A120*$B$4*1000)) -> 800 | I120: =IF($A120<1,0,MIN(MIN(C$7*C$14,C$13)*C$15,$A120*$B$4*1000)) -> 1000 | J120: =IF($A120<1,0,MIN(MIN(D$7*D$14,D$13)*D$15,$A120*$B$4*1000)) -> 16000 | K120: =H120/($B$4*$A120*1000) -> 0.014545455 | L120: =I120/($B$4*$A120*1000) -> 0.018181818 | M120: =J120/($B$4*$A120*1000) -> 0.29090909

Sheet Escenari 2
A1: ESTRATÈGIA 2
A3: Hipòtesis
A4: Ràtio cost instal·lació (€/kWn) | B4: 1.1
A6: Casos a analitzar | B6: Unifamiliar | C6: Plurifamiliar | D6: Terciari
A7: Quota IBI | B7: 800 | C7: 400 | D7: 19000
A8: Supòsit A, B i C
A9: Topall | B9: 300 | C9: 300 | D9: 4000
A10: Intensitat màxima | B10: 0.3 | C10: 0.4 | D10: 0.3
A11: Durada | B11: 2 | C11: 5 | D11: 2
A12: Supòsit E (Comunitat Energètica)
A13: Topall | B13: =B9 -> 300 | C13: =C9 -> 300 | D13: =D9 -> 4000
A14: Intensitat màxima | B14: 0.5 | C14: 0.5 | D14: 0.5
A15: Durada | B15: 2 | C15: 5 | D15: 2
A16: Unifamiliars i Terciaris: Topall: 300€ Intensitat: 30% Durada: 2 anys Plurifamiliars: Topall: 300€ Intensitat: 40% Durada: 5 anys CE: Ídem, però Intensitats al 50% ---------------- Uni i pluri aventatges per ser CE. Terciari no
B18: =A8 -> Supòsit A, B i C | H18: =A12 -> Supòsit E (Comunitat Energètica)
B19: Bonificació IBI | E19: Intensitat sobre la inversió | H19: Bonificació IBI | K19: Intensitat sobre la inversió
A20: Potència instal·lada (kWn) | B20: =B6 -> Unifamiliar | C20: =C6 -> Plurifamiliar | D20: =D6 -> Terciari | E20: Unifamiliar | F20: Plurifamiliar | G20: Terciari | H20: =B20 -> Unifamiliar | I20: =C20 -> Plurifamiliar | J20: =D20 -> Terciari | K20: =E20 -> Unifamiliar | L20: =F20 -> Plurifamiliar | M20: =G20 -> Terciari
A21: 0.5 | B21: =IF($A21<1,0,MIN(MIN(B$7*B$10,B$9)*B$11,$A21*$B$4*1000)) -> 0 | C21: =IF($A21<0,0,MIN(MIN(C$7*C$10,C$9)*C$11,$A21*$B$4*1000)) -> 550 | D21: =IF($A21<1,0,MIN(MIN(D$7*D$10,D$9)*D$11,$A21*$B$4*1000)) -> 0 | E21: =B21/($B$4*$A21*1000) -> 0 | F21: =C21/($B$4*$A21*1000) -> 1 | G21: =D21/($B$4*$A21*1000) -> 0 | H21: =IF($A21<1,0,MIN(MIN(B$7*B$14,B$13)*B$15,$A21*$B$4*1000)) -> 0 | I21: =IF($A21<0,0,MIN(MIN(C$7*C$14,C$13)*C$15,$A21*$B$4*1000)) -> 550 | J21: =IF($A21<1,0,MIN(MIN(D$7*D$14,D$13)*D$15,$A21*$B$4*1000)) -> 0 | K21: =H21/($B$4*$A21*1000) -> 0 | L21: =I21/($B$4*$A21*1000) -> 1 | M21: =J21/($B$4*$A21*1000) -> 0
A22: =A21+0.5 -> 1 | B22: =IF($A22<1,0,MIN(MIN(B$7*B$10,B$9)*B$11,$A22*$B$4*1000)) -> 480 | C22: =IF($A22<0,0,MIN(MIN(C$7*C$10,C$9)*C$11,$A22*$B$4*1000)) -> 800 | D22: =IF($A22<1,0,MIN(MIN(D$7*D$10,D$9)*D$11,$A22*$B$4*1000)) -> 1100 | E22: =B22/($B$4*$A22*1000) -> 0.43636364 | F22: =C22/($B$4*$A22*1000) -> 0.72727273 | G22: =D22/($B$4*$A22*1000) -> 1 | H22: =IF($A22<1,0,MIN(MIN(B$7*B$14,B$13)*B$15,$A22*$B$4*1000)) -> 600 | I22: =IF($A22<1,0,MIN(MIN(C$7*C$14,C$13)*C$15,$A22*$B$4*1000)) -> 1000 | J22: =IF($A22<1,0,MIN(MIN(D$7*D$14,D$13)*D$15,$A22*$B$4*1000)) -> 1100 | K22: =H22/($B$4*$A22*1000) -> 0.54545455 | L22: =I22/($B$4*$A22*1000) -> 0.90909091 | M22: =J22/($B$4*$A22*1000) -> 1
A23: =A22+0.5 -> 1.5 | B23: =IF($A23<1,0,MIN(MIN(B$7*B$10,B$9)*B$11,$A23*$B$4*1000)) -> 480 | C23: =IF($A23<0,0,MIN(MIN(C$7*C$10,C$9)*C$11,$A23*$B$4*1000)) -> 800 | D23: =IF($A23<1,0,MIN(MIN(D$7*D$10,D$9)*D$11,$A23*$B$4*1000)) -> 1650 | E23: =B23/($B$4*$A23*1000) -> 0.29090909 | F23: =C23/($B$4*$A23*1000) -> 0.48484848 | G23: =D23/($B$4*$A23*1000) -> 1 | H23: =IF($A23<1,0,MIN(MIN(B$7*B$14,B$13)*B$15,$A23*$B$4*1000)) -> 600 | I23: =IF($A23<1,0,MIN(MIN(C$7*C$14,C$13)*C$15,$A23*$B$4*1000)) -> 1000 | J23: =IF($A23<1,0,MIN(MIN(D$7*D$14,D$13)*D$15,$A23*$B$4*1000)) -> 1650 | K23: =H23/($B$4*$A23*1000) -> 0.36363636 | L23: =I23/($B$4*$A23*1000) -> 0.60606061 | M23: =J23/($B$4*$A23*1000) -> 1
A24: =A23+0.5 -> 2 | B24: =IF($A24<1,0,MIN(MIN(B$7*B$10,B$9)*B$11,$A24*$B$4*1000)) -> 480 | C24: =IF($A24<0,0,MIN(MIN(C$7*C$10,C$9)*C$11,$A24*$B$4*1000)) -> 800 | D24: =IF($A24<1,0,MIN(MIN(D$7*D$10,D$9)*D$11,$A24*$B$4*1000)) -> 2200 | E24: =B24/($B$4*$A24*1000) -> 0.21818182 | F24: =C24/($B$4*$A24*1000) -> 0.36363636 | G24: =D24/($B$4*$A24*1000) -> 1 | H24: =IF($A24<1,0,MIN(MIN(B$7*B$14,B$13)*B$15,$A24*$B$4*1000)) -> 600 | I24: =IF($A24<1,0,MIN(MIN(C$7*C$14,C$13)*C$15,$A24*$B$4*1000)) -> 1000 | J24: =IF($A24<1,0,MIN(MIN(D$7*D$14,D$13)*D$15,$A24*$B$4*1000)) -> 2200 | K24: =H24/($B$4*$A24*1000) -> 0.27272727 | L24: =I24/($B$4*$A24*1000) -> 0.45454545 | M24: =J24/($B$4*$A24*1000) -> 1
A25: =A24+0.5 -> 2.5 | B25: =IF($A25<1,0,MIN(MIN(B$7*B$10,B$9)*B$11,$A25*$B$4*1000)) -> 480 | C25: =IF($A25<0,0,MIN(MIN(C$7*C$10,C$9)*C$11,$A25*$B$4*1000)) -> 800 | D25: =IF($A25<1,0,MIN(MIN(D$7*D$10,D$9)*D$11,$A25*$B$4*1000)) -> 2750 | E25: =B25/($B$4*$A25*1000) -> 0.17454545 | F25: =C25/($B$4*$A25*1000) -> 0.29090909 | G25: =D25/($B$4*$A25*1000) -> 1 | H25: =IF($A25<1,0,MIN(MIN(B$7*B$14,B$13)*B$15,$A25*$B$4*1000)) -> 600 | I25: =IF($A25<1,0,MIN(MIN(C$7*C$14,C$13)*C$15,$A25*$B$4*1000)) -> 1000 | J25: =IF($A25<1,0,MIN(MIN(D$7*D$14,D$13)*D$15,$A25*$B$4*1000)) -> 2750 | K25: =H25/($B$4*$A25*1000) -> 0.21818182 | L25: =I25/($B$4*$A25*1000) -> 0.36363636 | M25: =J25/($B$4*$A25*1000) -> 1
A26: =A25+0.5 -> 3 | B26: =IF($A26<1,0,MIN(MIN(B$7*B$10,B$9)*B$11,$A26*$B$4*1000)) -> 480 | C26: =IF($A26<0,0,MIN(MIN(C$7*C$10,C$9)*C$11,$A26*$B$4*1000)) -> 800 | D26: =IF($A26<1,0,MIN(MIN(D$7*D$10,D$9)*D$11,$A26*$B$4*1000)) -> 3300 | E26: =B26/($B$4*$A26*1000) -> 0.14545455 | F26: =C26/($B$4*$A26*1000) -> 0.24242424 | G26: =D26/($B$4*$A26*1000) -> 1 | H26: =IF($A26<1,0,MIN(MIN(B$7*B$14,B$13)*B$15,$A26*$B$4*1000)) -> 600 | I26: =IF($A26<1,0,MIN(MIN(C$7*C$14,C$13)*C$15,$A26*$B$4*1000)) -> 1000 | J26: =IF($A26<1,0,MIN(MIN(D$7*D$14,D$13)*D$15,$A26*$B$4*1000)) -> 3300 | K26: =H26/($B$4*$A26*1000) -> 0.18181818 | L26: =I26/($B$4*$A26*1000) -> 0.3030303 | M26: =J26/($B$4*$A26*1000) -> 1
A27: =A26+0.5 -> 3.5 | B27: =IF($A27<1,0,MIN(MIN(B$7*B$10,B$9)*B$11,$A27*$B$4*1000)) -> 480 | C27: =IF($A27<0,0,MIN(MIN(C$7*C$10,C$9)*C$11,$A27*$B$4*1000)) -> 800 | D27: =IF($A27<1,0,MIN(MIN(D$7*D$10,D$9)*D$11,$A27*$B$4*1000)) -> 3850 | E27: =B27/($B$4*$A27*1000) -> 0.12467532 | F27: =C27/($B$4*$A27*1000) -> 0.20779221 | G27: =D27/($B$4*$A27*1000) -> 1 | H27: =IF($A27<1,0,MIN(MIN(B$7*B$14,B$13)*B$15,$A27*$B$4*1000)) -> 600 | I27: =IF($A27<1,0,MIN(MIN(C$7*C$14,C$13)*C$15,$A27*$B$4*1000)) -> 1000 | J27: =IF($A27<1,0,MIN(MIN(D$7*D$14,D$13)*D$15,$A27*$B$4*1000)) -> 3850 | K27: =H27/($B$4*$A27*1000) -> 0.15584416 | L27: =I27/($B$4*$A27*1000) -> 0.25974026 | M27: =J27/($B$4*$A27*1000) -> 1
A28: =A27+0.5 -> 4 | B28: =IF($A28<1,0,MIN(MIN(B$7*B$10,B$9)*B$11,$A28*$B$4*1000)) -> 480 | C28: =IF($A28<0,0,MIN(MIN(C$7*C$10,C$9)*C$11,$A28*$B$4*1000)) -> 800 | D28: =IF($A28<1,0,MIN(MIN(D$7*D$10,D$9)*D$11,$A28*$B$4*1000)) -> 4400 | E28: =B28/($B$4*$A28*1000) -> 0.10909091 | F28: =C28/($B$4*$A28*1000) -> 0.18181818 | G28: =D28/($B$4*$A28*1000) -> 1 | H28: =IF($A28<1,0,MIN(MIN(B$7*B$14,B$13)*B$15,$A28*$B$4*1000)) -> 600 | I28: =IF($A28<1,0,MIN(MIN(C$7*C$14,C$13)*C$15,$A28*$B$4*1000)) -> 1000 | J28: =IF($A28<1,0,MIN(MIN(D$7*D$14,D$13)*D$15,$A28*$B$4*1000)) -> 4400 | K28: =H28/($B$4*$A28*1000) -> 0.13636364 | L28: =I28/($B$4*$A28*1000) -> 0.22727273 | M28: =J28/($B$4*$A28*1000) -> 1
A29: =A28+0.5 -> 4.5 | B29: =IF($A29<1,0,MIN(MIN(B$7*B$10,B$9)*B$11,$A29*$B$4*1000)) -> 480 | C29: =IF($A29<0,0,MIN(MIN(C$7*C$10,C$9)*C$11,$A29*$B$4*1000)) -> 800 | D29: =IF($A29<1,0,MIN(MIN(D$7*D$10,D$9)*D$11,$A29*$B$4*1000)) -> 4950 | E29: =B29/($B$4*$A29*1000) -> 0.096969697 | F29: =C29/($B$4*$A29*1000) -> 0.16161616 | G29: =D29/($B$4*$A29*1000) -> 1 | H29: =IF($A29<1,0,MIN(MIN(B$7*B$14,B$13)*B$15,$A29*$B$4*1000)) -> 600 | I29: =IF($A29<1,0,MIN(MIN(C$7*C$14,C$13)*C$15,$A29*$B$4*1000)) -> 1000 | J29: =IF($A29<1,0,MIN(MIN(D$7*D$14,D$13)*D$15,$A29*$B$4*1000)) -> 4950 | K29: =H29/($B$4*$A29*1000) -> 0.12121212 | L29: =I29/($B$4*$A29*1000) -> 0.2020202 | M29: =J29/($B$4*$A29*1000) -> 1
A30: =A29+0.5 -> 5 | B30: =IF($A30<1,0,MIN(MIN(B$7*B$10,B$9)*B$11,$A30*$B$4*1000)) -> 480 | C30: =IF($A30<0,0,MIN(MIN(C$7*C$10,C$9)*C$11,$A30*$B$4*1000)) -> 800 | D30: =IF($A30<1,0,MIN(MIN(D$7*D$10,D$9)*D$11,$A30*$B$4*1000)) -> 5500 | E30: =B30/($B$4*$A30*1000) -> 0.087272727 | F30: =C30/($B$4*$A30*1000) -> 0.14545455 | G30: =D30/($B$4*$A30*1000) -> 1 | H30: =IF($A30<1,0,MIN(MIN(B$7*B$14,B$13)*B$15,$A30*$B$4*1000)) -> 600 | I30: =IF($A30<1,0,MIN(MIN(C$7*C$14,C$13)*C$15,$A30*$B$4*1000)) -> 1000 | J30: =IF($A30<1,0,MIN(MIN(D$7*D$14,D$13)*D$15,$A30*$B$4*1000)) -> 5500 | K30: =H30/($B$4*$A30*1000) -> 0.10909091 | L30: =I30/($B$4*$A30*1000) -> 0.18181818 | M30: =J30/($B$4*$A30*1000) -> 1
A31: =A30+0.5 -> 5.5 | B31: =IF($A31<1,0,MIN(MIN(B$7*B$10,B$9)*B$11,$A31*$B$4*1000)) -> 480 | C31: =IF($A31<0,0,MIN(MIN(C$7*C$10,C$9)*C$11,$A31*$B$4*1000)) -> 800 | D31: =IF($A31<1,0,MIN(MIN(D$7*D$10,D$9)*D$11,$A31*$B$4*1000)) -> 6050 | E31: =B31/($B$4*$A31*1000) -> 0.079338843 | F31: =C31/($B$4*$A31*1000) -> 0.1322314 | G31: =D31/($B$4*$A31*1000) -> 1 | H31: =IF($A31<1,0,MIN(MIN(B$7*B$14,B$13)*B$15,$A31*$B$4*1000)) -> 600 | I31: =IF($A31<1,0,MIN(MIN(C$7*C$14,C$13)*C$15,$A31*$B$4*1000)) -> 1000 | J31: =IF($A31<1,0,MIN(MIN(D$7*D$14,D$13)*D$15,$A31*$B$4*1000)) -> 6050 | K31: =H31/($B$4*$A31*1000) -> 0.099173554 | L31: =I31/($B$4*$A31*1000) -> 0.16528926 | M31: =J31/($B$4*$A31*1000) -> 1
A32: =A31+0.5 -> 6 | B32: =IF($A32<1,0,MIN(MIN(B$7*B$10,B$9)*B$11,$A32*$B$4*1000)) -> 480 | C32: =IF($A32<0,0,MIN(MIN(C$7*C$10,C$9)*C$11,$A32*$B$4*1000)) -> 800 | D32: =IF($A32<1,0,MIN(MIN(D$7*D$10,D$9)*D$11,$A32*$B$4*1000)) -> 6600 | E32: =B32/($B$4*$A32*1000) -> 0.072727273 | F32: =C32/($B$4*$A32*1000) -> 0.12121212 | G32: =D32/($B$4*$A32*1000) -> 1 | H32: =IF($A32<1,0,MIN(MIN(B$7*B$14,B$13)*B$15,$A32*$B$4*1000)) -> 600 | I32: =IF($A32<1,0,MIN(MIN(C$7*C$14,C$13)*C$15,$A32*$B$4*1000)) -> 1000 | J32: =IF($A32<1,0,MIN(MIN(D$7*D$14,D$13)*D$15,$A32*$B$4*1000)) -> 6600 | K32: =H32/($B$4*$A32*1000) -> 0.090909091 | L32: =I32/($B$4*$A32*1000) -> 0.15151515 | M32: =J32/($B$4*$A32*1000) -> 1
A33: =A32+0.5 -> 6.5 | B33: =IF($A33<1,0,MIN(MIN(B$7*B$10,B$9)*B$11,$A33*$B$4*1000)) -> 480 | C33: =IF($A33<0,0,MIN(MIN(C$7*C$10,C$9)*C$11,$A33*$B$4*1000)) -> 800 | D33: =IF($A33<1,0,MIN(MIN(D$7*D$10,D$9)*D$11,$A33*$B$4*1000)) -> 7150 | E33: =B33/($B$4*$A33*1000) -> 0.067132867 | F33: =C33/($B$4*$A33*1000) -> 0.11188811 | G33: =D33/($B$4*$A33*1000) -> 1 | H33: =IF($A33<1,0,MIN(MIN(B$7*B$14,B$13)*B$15,$A33*$B$4*1000)) -> 600 | I33: =IF($A33<1,0,MIN(MIN(C$7*C$14,C$13)*C$15,$A33*$B$4*1000)) -> 1000 | J33: =IF($A33<1,0,MIN(MIN(D$7*D$14,D$13)*D$15,$A33*$B$4*1000)) -> 7150 | K33: =H33/($B$4*$A33*1000) -> 0.083916084 | L33: =I33/($B$4*$A33*1000) -> 0.13986014 | M33: =J33/($B$4*$A33*1000) -> 1
... A120: =A119+0.5 -> 50 | B120: =IF($A120<1,0,MIN(MIN(B$7*B$10,B$9)*B$11,$A120*$B$4*1000)) -> 480 | C120: =IF($A120<0,0,MIN(MIN(C$7*C$10,C$9)*C$11,$A120*$B$4*1000)) -> 800 | D120: =IF($A120<1,0,MIN(MIN(D$7*D$10,D$9)*D$11,$A120*$B$4*1000)) -> 8000 | E120: =B120/($B$4*$A120*1000) -> 0.0087272727 | F120: =C120/($B$4*$A120*1000) -> 0.014545455 | G120: =D120/($B$4*$A120*1000) -> 0.14545455 | H120: =IF($A120<1,0,MIN(MIN(B$7*B$14,B$13)*B$15,$A120*$B$4*1000)) -> 600 | I120: =IF($A120<1,0,MIN(MIN(C$7*C$14,C$13)*C$15,$A120*$B$4*1000)) -> 1000 | J120: =IF($A120<1,0,MIN(MIN(D$7*D$14,D$13)*D$15,$A120*$B$4*1000)) -> 8000 | K120: =H120/($B$4*$A120*1000) -> 0.010909091 | L120: =I120/($B$4*$A120*1000) -> 0.018181818 | M120: =J120/($B$4*$A120*1000) -> 0.14545455

Sheet Escenari 3
A1: ESTRATÈGIA 3
A3: Hipòtesis
A4: Ràtio cost instal·lació (€/kWn) | B4: 1.1
A6: Casos a analitzar | B6: Unifamiliar | C6: Plurifamiliar | D6: Terciari
A7: Quota IBI | B7: 800 | C7: 400 | D7: 19000
A8: Supòsit A, B i C
A9: Topall | B9: 300 | C9: 300 | D9: 4000
A10: Intensitat màxima | B10: 0.5 | C10: 0.5 | D10: 0.3
A11: Durada | B11: 2 | C11: 5 | D11: 2
A12: Supòsit E (Comunitat Energètica)
A13: Topall | D13: =D9 -> 4000
A14: Intensitat màxima | B14: 0.5 | C14: 0.5 | D14: 0.3
A15: Durada | B15: 3 | C15: 5 | D15: 3
A16: Unifamiliars i Terciaris: Topall: 300€ Intensitat: 30% Durada: 2 anys Plurifamiliars: Topall: 300€ Intensitat: 50% Durada: 4 anys CE: Ídem, però Durada +1 any ---------------- Aventatges per ser CE, per terciari. Uni no afecta pq pot > 3kW
B18: =A8 -> Supòsit A, B i C | H18: =A12 -> Supòsit E (Comunitat Energètica)
B19: Bonificació IBI | E19: Intensitat sobre la inversió | H19: Bonificació IBI | K19: Intensitat sobre la inversió
A20: Potència instal·lada (kWn) | B20: =B6 -> Unifamiliar | C20: =C6 -> Plurifamiliar | D20: =D6 -> Terciari | E20: Unifamiliar | F20: Plurifamiliar | G20: Terciari | H20: =B20 -> Unifamiliar | I20: =C20 -> Plurifamiliar | J20: =D20 -> Terciari | K20: =E20 -> Unifamiliar | L20: =F20 -> Plurifamiliar | M20: =G20 -> Terciari
A21: 0.5 | B21: =IF($A21<1,0,MIN(MIN(B$7*B$10,B$9)*B$11,$A21*$B$4*1000)) -> 0 | C21: =IF($A21<0,0,MIN(MIN(C$7*C$10,C$9)*C$11,$A21*$B$4*1000)) -> 550 | D21: =IF($A21<1,0,MIN(MIN(D$7*D$10,D$9)*D$11,$A21*$B$4*1000)) -> 0 | E21: =B21/($B$4*$A21*1000) -> 0 | F21: =C21/($B$4*$A21*1000) -> 1 | G21: =D21/($B$4*$A21*1000) -> 0 | H21: =IF($A21<1,0,MIN(MIN(B$7*B$14,B$13)*B$15,$A21*$B$4*1000)) -> 0 | I21: =IF($A21<0,0,MIN(MIN(C$7*C$14,C$13)*C$15,$A21*$B$4*1000)) -> 550 | J21: =IF($A21<1,0,MIN(MIN(D$7*D$14,D$13)*D$15,$A21*$B$4*1000)) -> 0 | K21: =H21/($B$4*$A21*1000) -> 0 | L21: =I21/($B$4*$A21*1000) -> 1 | M21: =J21/($B$4*$A21*1000) -> 0
A22: =A21+0.5 -> 1 | B22: =IF($A22<1,0,MIN(MIN(B$7*B$10,B$9)*B$11,$A22*$B$4*1000)) -> 600 | C22: =IF($A22<0,0,MIN(MIN(C$7*C$10,C$9)*C$11,$A22*$B$4*1000)) -> 1000 | D22: =IF($A22<1,0,MIN(MIN(D$7*D$10,D$9)*D$11,$A22*$B$4*1000)) -> 1100 | E22: =B22/($B$4*$A22*1000) -> 0.54545455 | F22: =C22/($B$4*$A22*1000) -> 0.90909091 | G22: =D22/($B$4*$A22*1000) -> 1 | H22: =IF($A22<1,0,MIN(MIN(B$7*B$14,B$13)*B$15,$A22*$B$4*1000)) -> 1100 | I22: =IF($A22<1,0,MIN(MIN(C$7*C$14,C$13)*C$15,$A22*$B$4*1000)) -> 1000 | J22: =IF($A22<1,0,MIN(MIN(D$7*D$14,D$13)*D$15,$A22*$B$4*1000)) -> 1100 | K22: =H22/($B$4*$A22*1000) -> 1 | L22: =I22/($B$4*$A22*1000) -> 0.90909091 | M22: =J22/($B$4*$A22*1000) -> 1
A23: =A22+0.5 -> 1.5 | B23: =IF($A23<1,0,MIN(MIN(B$7*B$10,B$9)*B$11,$A23*$B$4*1000)) -> 600 | C23: =IF($A23<0,0,MIN(MIN(C$7*C$10,C$9)*C$11,$A23*$B$4*1000)) -> 1000 | D23: =IF($A23<1,0,MIN(MIN(D$7*D$10,D$9)*D$11,$A23*$B$4*1000)) -> 1650 | E23: =B23/($B$4*$A23*1000) -> 0.36363636 | F23: =C23/($B$4*$A23*1000) -> 0.60606061 | G23: =D23/($B$4*$A23*1000) -> 1 | H23: =IF($A23<1,0,MIN(MIN(B$7*B$14,B$13)*B$15,$A23*$B$4*1000)) -> 1200 | I23: =IF($A23<1,0,MIN(MIN(C$7*C$14,C$13)*C$15,$A23*$B$4*1000)) -> 1000 | J23: =IF($A23<1,0,MIN(MIN(D$7*D$14,D$13)*D$15,$A23*$B$4*1000)) -> 1650 | K23: =H23/($B$4*$A23*1000) -> 0.72727273 | L23: =I23/($B$4*$A23*1000) -> 0.60606061 | M23: =J23/($B$4*$A23*1000) -> 1
A24: =A23+0.5 -> 2 | B24: =IF($A24<1,0,MIN(MIN(B$7*B$10,B$9)*B$11,$A24*$B$4*1000)) -> 600 | C24: =IF($A24<0,0,MIN(MIN(C$7*C$10,C$9)*C$11,$A24*$B$4*1000)) -> 1000 | D24: =IF($A24<1,0,MIN(MIN(D$7*D$10,D$9)*D$11,$A24*$B$4*1000)) -> 2200 | E24: =B24/($B$4*$A24*1000) -> 0.27272727 | F24: =C24/($B$4*$A24*1000) -> 0.45454545 | G24: =D24/($B$4*$A24*1000) -> 1 | H24: =IF($A24<1,0,MIN(MIN(B$7*B$14,B$13)*B$15,$A24*$B$4*1000)) -> 1200 | I24: =IF($A24<1,0,MIN(MIN(C$7*C$14,C$13)*C$15,$A24*$B$4*1000)) -> 1000 | J24: =IF($A24<1,0,MIN(MIN(D$7*D$14,D$13)*D$15,$A24*$B$4*1000)) -> 2200 | K24: =H24/($B$4*$A24*1000) -> 0.54545455 | L24: =I24/($B$4*$A24*1000) -> 0.45454545 | M24: =J24/($B$4*$A24*1000) -> 1
A25: =A24+0.5 -> 2.5 | B25: =IF($A25<1,0,MIN(MIN(B$7*B$10,B$9)*B$11,$A25*$B$4*1000)) -> 600 | C25: =IF($A25<0,0,MIN(MIN(C$7*C$10,C$9)*C$11,$A25*$B$4*1000)) -> 1000 | D25: =IF($A25<1,0,MIN(MIN(D$7*D$10,D$9)*D$11,$A25*$B$4*1000)) -> 2750 | E25: =B25/($B$4*$A25*1000) -> 0.21818182 | F25: =C25/($B$4*$A25*1000) -> 0.36363636 | G25: =D25/($B$4*$A25*1000) -> 1 | H25: =IF($A25<1,0,MIN(MIN(B$7*B$14,B$13)*B$15,$A25*$B$4*1000)) -> 1200 | I25: =IF($A25<1,0,MIN(MIN(C$7*C$14,C$13)*C$15,$A25*$B$4*1000)) -> 1000 | J25: =IF($A25<1,0,MIN(MIN(D$7*D$14,D$13)*D$15,$A25*$B$4*1000)) -> 2750 | K25: =H25/($B$4*$A25*1000) -> 0.43636364 | L25: =I25/($B$4*$A25*1000) -> 0.36363636 | M25: =J25/($B$4*$A25*1000) -> 1
A26: =A25+0.5 -> 3 | B26: =IF($A26<1,0,MIN(MIN(B$7*B$10,B$9)*B$11,$A26*$B$4*1000)) -> 600 | C26: =IF($A26<0,0,MIN(MIN(C$7*C$10,C$9)*C$11,$A26*$B$4*1000)) -> 1000 | D26: =IF($A26<1,0,MIN(MIN(D$7*D$10,D$9)*D$11,$A26*$B$4*1000)) -> 3300 | E26: =B26/($B$4*$A26*1000) -> 0.18181818 | F26: =C26/($B$4*$A26*1000) -> 0.3030303 | G26: =D26/($B$4*$A26*1000) -> 1 | H26: =IF($A26<1,0,MIN(MIN(B$7*B$14,B$13)*B$15,$A26*$B$4*1000)) -> 1200 | I26: =IF($A26<1,0,MIN(MIN(C$7*C$14,C$13)*C$15,$A26*$B$4*1000)) -> 1000 | J26: =IF($A26<1,0,MIN(MIN(D$7*D$14,D$13)*D$15,$A26*$B$4*1000)) -> 3300 | K26: =H26/($B$4*$A26*1000) -> 0.36363636 | L26: =I26/($B$4*$A26*1000) -> 0.3030303 | M26: =J26/($B$4*$A26*1000) -> 1
A27: =A26+0.5 -> 3.5 | B27: =IF($A27<1,0,MIN(MIN(B$7*B$10,B$9)*B$11,$A27*$B$4*1000)) -> 600 | C27: =IF($A27<0,0,MIN(MIN(C$7*C$10,C$9)*C$11,$A27*$B$4*1000)) -> 1000 | D27: =IF($A27<1,0,MIN(MIN(D$7*D$10,D$9)*D$11,$A27*$B$4*1000)) -> 3850 | E27: =B27/($B$4*$A27*1000) -> 0.15584416 | F27: =C27/($B$4*$A27*1000) -> 0.25974026 | G27: =D27/($B$4*$A27*1000) -> 1 | H27: =IF($A27<1,0,MIN(MIN(B$7*B$14,B$13)*B$15,$A27*$B$4*1000)) -> 1200 | I27: =IF($A27<1,0,MIN(MIN(C$7*C$14,C$13)*C$15,$A27*$B$4*1000)) -> 1000 | J27: =IF($A27<1,0,MIN(MIN(D$7*D$14,D$13)*D$15,$A27*$B$4*1000)) -> 3850 | K27: =H27/($B$4*$A27*1000) -> 0.31168831 | L27: =I27/($B$4*$A27*1000) -> 0.25974026 | M27: =J27/($B$4*$A27*1000) -> 1
A28: =A27+0.5 -> 4 | B28: =IF($A28<1,0,MIN(MIN(B$7*B$10,B$9)*B$11,$A28*$B$4*1000)) -> 600 | C28: =IF($A28<0,0,MIN(MIN(C$7*C$10,C$9)*C$11,$A28*$B$4*1000)) -> 1000 | D28: =IF($A28<1,0,MIN(MIN(D$7*D$10,D$9)*D$11,$A28*$B$4*1000)) -> 4400 | E28: =B28/($B$4*$A28*1000) -> 0.13636364 | F28: =C28/($B$4*$A28*1000) -> 0.22727273 | G28: =D28/($B$4*$A28*1000) -> 1 | H28: =IF($A28<1,0,MIN(MIN(B$7*B$14,B$13)*B$15,$A28*$B$4*1000)) -> 1200 | I28: =IF($A28<1,0,MIN(MIN(C$7*C$14,C$13)*C$15,$A28*$B$4*1000)) -> 1000 | J28: =IF($A28<1,0,MIN(MIN(D$7*D$14,D$13)*D$15,$A28*$B$4*1000)) -> 4400 | K28: =H28/($B$4*$A28*1000) -> 0.27272727 | L28: =I28/($B$4*$A28*1000) -> 0.22727273 | M28: =J28/($B$4*$A28*1000) -> 1
A29: =A28+0.5 -> 4.5 | B29: =IF($A29<1,0,MIN(MIN(B$7*B$10,B$9)*B$11,$A29*$B$4*1000)) -> 600 | C29: =IF($A29<0,0,MIN(MIN(C$7*C$10,C$9)*C$11,$A29*$B$4*1000)) -> 1000 | D29: =IF($A29<1,0,MIN(MIN(D$7*D$10,D$9)*D$11,$A29*$B$4*1000)) -> 4950 | E29: =B29/($B$4*$A29*1000) -> 0.12121212 | F29: =C29/($B$4*$A29*1000) -> 0.2020202 | G29: =D29/($B$4*$A29*1000) -> 1 | H29: =IF($A29<1,0,MIN(MIN(B$7*B$14,B$13)*B$15,$A29*$B$4*1000)) -> 1200 | I29: =IF($A29<1,0,MIN(MIN(C$7*C$14,C$13)*C$15,$A29*$B$4*1000)) -> 1000 | J29: =IF($A29<1,0,MIN(MIN(D$7*D$14,D$13)*D$15,$A29*$B$4*1000)) -> 4950 | K29: =H29/($B$4*$A29*1000) -> 0.24242424 | L29: =I29/($B$4*$A29*1000) -> 0.2020202 | M29: =J29/($B$4*$A29*1000) -> 1
A30: =A29+0.5 -> 5 | B30: =IF($A30<1,0,MIN(MIN(B$7*B$10,B$9)*B$11,$A30*$B$4*1000)) -> 600 | C30: =IF($A30<0,0,MIN(MIN(C$7*C$10,C$9)*C$11,$A30*$B$4*1000)) -> 1000 | D30: =IF($A30<1,0,MIN(MIN(D$7*D$10,D$9)*D$11,$A30*$B$4*1000)) -> 5500 | E30: =B30/($B$4*$A30*1000) -> 0.10909091 | F30: =C30/($B$4*$A30*1000) -> 0.18181818 | G30: =D30/($B$4*$A30*1000) -> 1 | H30: =IF($A30<1,0,MIN(MIN(B$7*B$14,B$13)*B$15,$A30*$B$4*1000)) -> 1200 | I30: =IF($A30<1,0,MIN(MIN(C$7*C$14,C$13)*C$15,$A30*$B$4*1000)) -> 1000 | J30: =IF($A30<1,0,MIN(MIN(D$7*D$14,D$13)*D$15,$A30*$B$4*1000)) -> 5500 | K30: =H30/($B$4*$A30*1000) -> 0.21818182 | L30: =I30/($B$4*$A30*1000) -> 0.18181818 | M30: =J30/($B$4*$A30*1000) -> 1
A31: =A30+0.5 -> 5.5 | B31: =IF($A31<1,0,MIN(MIN(B$7*B$10,B$9)*B$11,$A31*$B$4*1000)) -> 600 | C31: =IF($A31<0,0,MIN(MIN(C$7*C$10,C$9)*C$11,$A31*$B$4*1000)) -> 1000 | D31: =IF($A31<1,0,MIN(MIN(D$7*D$10,D$9)*D$11,$A31*$B$4*1000)) -> 6050 | E31: =B31/($B$4*$A31*1000) -> 0.099173554 | F31: =C31/($B$4*$A31*1000) -> 0.16528926 | G31: =D31/($B$4*$A31*1000) -> 1 | H31: =IF($A31<1,0,MIN(MIN(B$7*B$14,B$13)*B$15,$A31*$B$4*1000)) -> 1200 | I31: =IF($A31<1,0,MIN(MIN(C$7*C$14,C$13)*C$15,$A31*$B$4*1000)) -> 1000 | J31: =IF($A31<1,0,MIN(MIN(D$7*D$14,D$13)*D$15,$A31*$B$4*1000)) -> 6050 | K31: =H31/($B$4*$A31*1000) -> 0.19834711 | L31: =I31/($B$4*$A31*1000) -> 0.16528926 | M31: =J31/($B$4*$A31*1000) -> 1
A32: =A31+0.5 -> 6 | B32: =IF($A32<1,0,MIN(MIN(B$7*B$10,B$9)*B$11,$A32*$B$4*1000)) -> 600 | C32: =IF($A32<0,0,MIN(MIN(C$7*C$10,C$9)*C$11,$A32*$B$4*1000)) -> 1000 | D32: =IF($A32<1,0,MIN(MIN(D$7*D$10,D$9)*D$11,$A32*$B$4*1000)) -> 6600 | E32: =B32/($B$4*$A32*1000) -> 0.090909091 | F32: =C32/($B$4*$A32*1000) -> 0.15151515 | G32: =D32/($B$4*$A32*1000) -> 1 | H32: =IF($A32<1,0,MIN(MIN(B$7*B$14,B$13)*B$15,$A32*$B$4*1000)) -> 1200 | I32: =IF($A32<1,0,MIN(MIN(C$7*C$14,C$13)*C$15,$A32*$B$4*1000)) -> 1000 | J32: =IF($A32<1,0,MIN(MIN(D$7*D$14,D$13)*D$15,$A32*$B$4*1000)) -> 6600 | K32: =H32/($B$4*$A32*1000) -> 0.18181818 | L32: =I32/($B$4*$A32*1000) -> 0.15151515 | M32: =J32/($B$4*$A32*1000) -> 1
A33: =A32+0.5 -> 6.5 | B33: =IF($A33<1,0,MIN(MIN(B$7*B$10,B$9)*B$11,$A33*$B$4*1000)) -> 600 | C33: =IF($A33<0,0,MIN(MIN(C$7*C$10,C$9)*C$11,$A33*$B$4*1000)) -> 1000 | D33: =IF($A33<1,0,MIN(MIN(D$7*D$10,D$9)*D$11,$A33*$B$4*1000)) -> 7150 | E33: =B33/($B$4*$A33*1000) -> 0.083916084 | F33: =C33/($B$4*$A33*1000) -> 0.13986014 | G33: =D33/($B$4*$A33*1000) -> 1 | H33: =IF($A33<1,0,MIN(MIN(B$7*B$14,B$13)*B$15,$A33*$B$4*1000)) -> 1200 | I33: =IF($A33<1,0,MIN(MIN(C$7*C$14,C$13)*C$15,$A33*$B$4*1000)) -> 1000 | J33: =IF($A33<1,0,MIN(MIN(D$7*D$14,D$13)*D$15,$A33*$B$4*1000)) -> 7150 | K33: =H33/($B$4*$A33*1000) -> 0.16783217 | L33: =I33/($B$4*$A33*1000) -> 0.13986014 | M33: =J33/($B$4*$A33*1000) -> 1
... A120: =A119+0.5 -> 50 | B120: =IF($A120<1,0,MIN(MIN(B$7*B$10,B$9)*B$11,$A120*$B$4*1000)) -> 600 | C120: =IF($A120<0,0,MIN(MIN(C$7*C$10,C$9)*C$11,$A120*$B$4*1000)) -> 1000 | D120: =IF($A120<1,0,MIN(MIN(D$7*D$10,D$9)*D$11,$A120*$B$4*1000)) -> 8000 | E120: =B120/($B$4*$A120*1000) -> 0.010909091 | F120: =C120/($B$4*$A120*1000) -> 0.018181818 | G120: =D120/($B$4*$A120*1000) -> 0.14545455 | H120: =IF($A120<1,0,MIN(MIN(B$7*B$14,B$13)*B$15,$A120*$B$4*1000)) -> 1200 | I120: =IF($A120<1,0,MIN(MIN(C$7*C$14,C$13)*C$15,$A120*$B$4*1000)) -> 1000 | J120: =IF($A120<1,0,MIN(MIN(D$7*D$14,D$13)*D$15,$A120*$B$4*1000)) -> 12000 | K120: =H120/($B$4*$A120*1000) -> 0.021818182 | L120: =I120/($B$4*$A120*1000) -> 0.018181818 | M120: =J120/($B$4*$A120*1000) -> 0.21818182

Sheet Escenari X
A1: EINA
A3: Hipòtesis
A4: Ràtio cost instal·lació (€/kWn) | B4: 1.1
A6: Casos a analitzar | B6: Unifamiliar | C6: Plurifamiliar | D6: Terciari
A7: Quota IBI | B7: 800 | C7: 400 | D7: 19000
A8: Supòsit A, B i C
A9: Topall
A10: Intensitat màxima
A11: Durada
A12: Supòsit E (Comunitat Energètica)
A13: Topall
A14: Intensitat màxima
A15: Durada
B18: =A8 -> Supòsit A, B i C | H18: =A12 -> Supòsit E (Comunitat Energètica)
B19: Bonificació IBI | E19: Intensitat sobre la inversió | H19: Bonificació IBI | K19: Intensitat sobre la inversió
A20: Potència instal·lada (kWn) | B20: =B6 -> Unifamiliar | C20: =C6 -> Plurifamiliar | D20: =D6 -> Terciari | E20: Unifamiliar | F20: Plurifamiliar | G20: Terciari | H20: =B20 -> Unifamiliar | I20: =C20 -> Plurifamiliar | J20: =D20 -> Terciari | K20: =E20 -> Unifamiliar | L20: =F20 -> Plurifamiliar | M20: =G20 -> Terciari
A21: 0.5 | B21: =IF($A21<1,0,MIN(MIN(B$7*B$10,B$9)*B$11,$A21*$B$4*1000)) -> 0 | C21: =IF($A21<0,0,MIN(MIN(C$7*C$10,C$9)*C$11,$A21*$B$4*1000)) -> 0 | D21: =IF($A21<1,0,MIN(MIN(D$7*D$10,D$9)*D$11,$A21*$B$4*1000)) -> 0 | E21: =B21/($B$4*$A21*1000) -> 0 | F21: =C21/($B$4*$A21*1000) -> 0 | G21: =D21/($B$4*$A21*1000) -> 0 | H21: =IF($A21<1,0,MIN(MIN(B$7*B$14,B$13)*B$15,$A21*$B$4*1000)) -> 0 | I21: =IF($A21<0,0,MIN(MIN(C$7*C$14,C$13)*C$15,$A21*$B$4*1000)) -> 0 | J21: =IF($A21<1,0,MIN(MIN(D$7*D$14,D$13)*D$15,$A21*$B$4*1000)) -> 0 | K21: =H21/($B$4*$A21*1000) -> 0 | L21: =I21/($B$4*$A21*1000) -> 0 | M21: =J21/($B$4*$A21*1000) -> 0
A22: =A21+0.5 -> 1 | B22: =IF($A22<1,0,MIN(MIN(B$7*B$10,B$9)*B$11,$A22*$B$4*1000)) -> 0 | C22: =IF($A22<0,0,MIN(MIN(C$7*C$10,C$9)*C$11,$A22*$B$4*1000)) -> 0 | D22: =IF($A22<1,0,MIN(MIN(D$7*D$10,D$9)*D$11,$A22*$B$4*1000)) -> 0 | E22: =B22/($B$4*$A22*1000) -> 0 | F22: =C22/($B$4*$A22*1000) -> 0 | G22: =D22/($B$4*$A22*1000) -> 0 | H22: =IF($A22<1,0,MIN(MIN(B$7*B$14,B$13)*B$15,$A22*$B$4*1000)) -> 0 | I22: =IF($A22<1,0,MIN(MIN(C$7*C$14,C$13)*C$15,$A22*$B$4*1000)) -> 0 | J22: =IF($A22<1,0,MIN(MIN(D$7*D$14,D$13)*D$15,$A22*$B$4*1000)) -> 0 | K22: =H22/($B$4*$A22*1000) -> 0 | L22: =I22/($B$4*$A22*1000) -> 0 | M22: =J22/($B$4*$A22*1000) -> 0
A23: =A22+0.5 -> 1.5 | B23: =IF($A23<1,0,MIN(MIN(B$7*B$10,B$9)*B$11,$A23*$B$4*1000)) -> 0 | C23: =IF($A23<0,0,MIN(MIN(C$7*C$10,C$9)*C$11,$A23*$B$4*1000)) -> 0 | D23: =IF($A23<1,0,MIN(MIN(D$7*D$10,D$9)*D$11,$A23*$B$4*1000)) -> 0 | E23: =B23/($B$4*$A23*1000) -> 0 | F23: =C23/($B$4*$A23*1000) -> 0 | G23: =D23/($B$4*$A23*1000) -> 0 | H23: =IF($A23<1,0,MIN(MIN(B$7*B$14,B$13)*B$15,$A23*$B$4*1000)) -> 0 | I23: =IF($A23<1,0,MIN(MIN(C$7*C$14,C$13)*C$15,$A23*$B$4*1000)) -> 0 | J23: =IF($A23<1,0,MIN(MIN(D$7*D$14,D$13)*D$15,$A23*$B$4*1000)) -> 0 | K23: =H23/($B$4*$A23*1000) -> 0 | L23: =I23/($B$4*$A23*1000) -> 0 | M23: =J23/($B$4*$A23*1000) -> 0
A24: =A23+0.5 -> 2 | B24: =IF($A24<1,0,MIN(MIN(B$7*B$10,B$9)*B$11,$A24*$B$4*1000)) -> 0 | C24: =IF($A24<0,0,MIN(MIN(C$7*C$10,C$9)*C$11,$A24*$B$4*1000)) -> 0 | D24: =IF($A24<1,0,MIN(MIN(D$7*D$10,D$9)*D$11,$A24*$B$4*1000)) -> 0 | E24: =B24/($B$4*$A24*1000) -> 0 | F24: =C24/($B$4*$A24*1000) -> 0 | G24: =D24/($B$4*$A24*1000) -> 0 | H24: =IF($A24<1,0,MIN(MIN(B$7*B$14,B$13)*B$15,$A24*$B$4*1000)) -> 0 | I24: =IF($A24<1,0,MIN(MIN(C$7*C$14,C$13)*C$15,$A24*$B$4*1000)) -> 0 | J24: =IF($A24<1,0,MIN(MIN(D$7*D$14,D$13)*D$15,$A24*$B$4*1000)) -> 0 | K24: =H24/($B$4*$A24*1000) -> 0 | L24: =I24/($B$4*$A24*1000) -> 0 | M24: =J24/($B$4*$A24*1000) -> 0
A25: =A24+0.5 -> 2.5 | B25: =IF($A25<1,0,MIN(MIN(B$7*B$10,B$9)*B$11,$A25*$B$4*1000)) -> 0 | C25: =IF($A25<0,0,MIN(MIN(C$7*C$10,C$9)*C$11,$A25*$B$4*1000)) -> 0 | D25: =IF($A25<1,0,MIN(MIN(D$7*D$10,D$9)*D$11,$A25*$B$4*1000)) -> 0 | E25: =B25/($B$4*$A25*1000) -> 0 | F25: =C25/($B$4*$A25*1000) -> 0 | G25: =D25/($B$4*$A25*1000) -> 0 | H25: =IF($A25<1,0,MIN(MIN(B$7*B$14,B$13)*B$15,$A25*$B$4*1000)) -> 0 | I25: =IF($A25<1,0,MIN(MIN(C$7*C$14,C$13)*C$15,$A25*$B$4*1000)) -> 0 | J25: =IF($A25<1,0,MIN(MIN(D$7*D$14,D$13)*D$15,$A25*$B$4*1000)) -> 0 | K25: =H25/($B$4*$A25*1000) -> 0 | L25: =I25/($B$4*$A25*1000) -> 0 | M25: =J25/($B$4*$A25*1000) -> 0
A26: =A25+0.5 -> 3 | B26: =IF($A26<1,0,MIN(MIN(B$7*B$10,B$9)*B$11,$A26*$B$4*1000)) -> 0 | C26: =IF($A26<0,0,MIN(MIN(C$7*C$10,C$9)*C$11,$A26*$B$4*1000)) -> 0 | D26: =IF($A26<1,0,MIN(MIN(D$7*D$10,D$9)*D$11,$A26*$B$4*1000)) -> 0 | E26: =B26/($B$4*$A26*1000) -> 0 | F26: =C26/($B$4*$A26*1000) -> 0 | G26: =D26/($B$4*$A26*1000) -> 0 | H26: =IF($A26<1,0,MIN(MIN(B$7*B$14,B$13)*B$15,$A26*$B$4*1000)) -> 0 | I26: =IF($A26<1,0,MIN(MIN(C$7*C$14,C$13)*C$15,$A26*$B$4*1000)) -> 0 | J26: =IF($A26<1,0,MIN(MIN(D$7*D$14,D$13)*D$15,$A26*$B$4*1000)) -> 0 | K26: =H26/($B$4*$A26*1000) -> 0 | L26: =I26/($B$4*$A26*1000) -> 0 | M26: =J26/($B$4*$A26*1000) -> 0
A27: =A26+0.5 -> 3.5 | B27: =IF($A27<1,0,MIN(MIN(B$7*B$10,B$9)*B$11,$A27*$B$4*1000)) -> 0 | C27: =IF($A27<0,0,MIN(MIN(C$7*C$10,C$9)*C$11,$A27*$B$4*1000)) -> 0 | D27: =IF($A27<1,0,MIN(MIN(D$7*D$10,D$9)*D$11,$A27*$B$4*1000)) -> 0 | E27: =B27/($B$4*$A27*1000) -> 0 | F27: =C27/($B$4*$A27*1000) -> 0 | G27: =D27/($B$4*$A27*1000) -> 0 | H27: =IF($A27<1,0,MIN(MIN(B$7*B$14,B$13)*B$15,$A27*$B$4*1000)) -> 0 | I27: =IF($A27<1,0,MIN(MIN(C$7*C$14,C$13)*C$15,$A27*$B$4*1000)) -> 0 | J27: =IF($A27<1,0,MIN(MIN(D$7*D$14,D$13)*D$15,$A27*$B$4*1000)) -> 0 | K27: =H27/($B$4*$A27*1000) -> 0 | L27: =I27/($B$4*$A27*1000) -> 0 | M27: =J27/($B$4*$A27*1000) -> 0
A28: =A27+0.5 -> 4 | B28: =IF($A28<1,0,MIN(MIN(B$7*B$10,B$9)*B$11,$A28*$B$4*1000)) -> 0 | C28: =IF($A28<0,0,MIN(MIN(C$7*C$10,C$9)*C$11,$A28*$B$4*1000)) -> 0 | D28: =IF($A28<1,0,MIN(MIN(D$7*D$10,D$9)*D$11,$A28*$B$4*1000)) -> 0 | E28: =B28/($B$4*$A28*1000) -> 0 | F28: =C28/($B$4*$A28*1000) -> 0 | G28: =D28/($B$4*$A28*1000) -> 0 | H28: =IF($A28<1,0,MIN(MIN(B$7*B$14,B$13)*B$15,$A28*$B$4*1000)) -> 0 | I28: =IF($A28<1,0,MIN(MIN(C$7*C$14,C$13)*C$15,$A28*$B$4*1000)) -> 0 | J28: =IF($A28<1,0,MIN(MIN(D$7*D$14,D$13)*D$15,$A28*$B$4*1000)) -> 0 | K28: =H28/($B$4*$A28*1000) -> 0 | L28: =I28/($B$4*$A28*1000) -> 0 | M28: =J28/($B$4*$A28*1000) -> 0
A29: =A28+0.5 -> 4.5 | B29: =IF($A29<1,0,MIN(MIN(B$7*B$10,B$9)*B$11,$A29*$B$4*1000)) -> 0 | C29: =IF($A29<0,0,MIN(MIN(C$7*C$10,C$9)*C$11,$A29*$B$4*1000)) -> 0 | D29: =IF($A29<1,0,MIN(MIN(D$7*D$10,D$9)*D$11,$A29*$B$4*1000)) -> 0 | E29: =B29/($B$4*$A29*1000) -> 0 | F29: =C29/($B$4*$A29*1000) -> 0 | G29: =D29/($B$4*$A29*1000) -> 0 | H29: =IF($A29<1,0,MIN(MIN(B$7*B$14,B$13)*B$15,$A29*$B$4*1000)) -> 0 | I29: =IF($A29<1,0,MIN(MIN(C$7*C$14,C$13)*C$15,$A29*$B$4*1000)) -> 0 | J29: =IF($A29<1,0,MIN(MIN(D$7*D$14,D$13)*D$15,$A29*$B$4*1000)) -> 0 | K29: =H29/($B$4*$A29*1000) -> 0 | L29: =I29/($B$4*$A29*1000) -> 0 | M29: =J29/($B$4*$A29*1000) -> 0
A30: =A29+0.5 -> 5 | B30: =IF($A30<1,0,MIN(MIN(B$7*B$10,B$9)*B$11,$A30*$B$4*1000)) -> 0 | C30: =IF($A30<0,0,MIN(MIN(C$7*C$10,C$9)*C$11,$A30*$B$4*1000)) -> 0 | D30: =IF($A30<1,0,MIN(MIN(D$7*D$10,D$9)*D$11,$A30*$B$4*1000)) -> 0 | E30: =B30/($B$4*$A30*1000) -> 0 | F30: =C30/($B$4*$A30*1000) -> 0 | G30: =D30/($B$4*$A30*1000) -> 0 | H30: =IF($A30<1,0,MIN(MIN(B$7*B$14,B$13)*B$15,$A30*$B$4*1000)) -> 0 | I30: =IF($A30<1,0,MIN(MIN(C$7*C$14,C$13)*C$15,$A30*$B$4*1000)) -> 0 | J30: =IF($A30<1,0,MIN(MIN(D$7*D$14,D$13)*D$15,$A30*$B$4*1000)) -> 0 | K30: =H30/($B$4*$A30*1000) -> 0 | L30: =I30/($B$4*$A30*1000) -> 0 | M30: =J30/($B$4*$A30*1000) -> 0
A31: =A30+0.5 -> 5.5 | B31: =IF($A31<1,0,MIN(MIN(B$7*B$10,B$9)*B$11,$A31*$B$4*1000)) -> 0 | C31: =IF($A31<0,0,MIN(MIN(C$7*C$10,C$9)*C$11,$A31*$B$4*1000)) -> 0 | D31: =IF($A31<1,0,MIN(MIN(D$7*D$10,D$9)*D$11,$A31*$B$4*1000)) -> 0 | E31: =B31/($B$4*$A31*1000) -> 0 | F31: =C31/($B$4*$A31*1000) -> 0 | G31: =D31/($B$4*$A31*1000) -> 0 | H31: =IF($A31<1,0,MIN(MIN(B$7*B$14,B$13)*B$15,$A31*$B$4*1000)) -> 0 | I31: =IF($A31<1,0,MIN(MIN(C$7*C$14,C$13)*C$15,$A31*$B$4*1000)) -> 0 | J31: =IF($A31<1,0,MIN(MIN(D$7*D$14,D$13)*D$15,$A31*$B$4*1000)) -> 0 | K31: =H31/($B$4*$A31*1000) -> 0 | L31: =I31/($B$4*$A31*1000) -> 0 | M31: =J31/($B$4*$A31*1000) -> 0
A32: =A31+0.5 -> 6 | B32: =IF($A32<1,0,MIN(MIN(B$7*B$10,B$9)*B$11,$A32*$B$4*1000)) -> 0 | C32: =IF($A32<0,0,MIN(MIN(C$7*C$10,C$9)*C$11,$A32*$B$4*1000)) -> 0 | D32: =IF($A32<1,0,MIN(MIN(D$7*D$10,D$9)*D$11,$A32*$B$4*1000)) -> 0 | E32: =B32/($B$4*$A32*1000) -> 0 | F32: =C32/($B$4*$A32*1000) -> 0 | G32: =D32/($B$4*$A32*1000) -> 0 | H32: =IF($A32<1,0,MIN(MIN(B$7*B$14,B$13)*B$15,$A32*$B$4*1000)) -> 0 | I32: =IF($A32<1,0,MIN(MIN(C$7*C$14,C$13)*C$15,$A32*$B$4*1000)) -> 0 | J32: =IF($A32<1,0,MIN(MIN(D$7*D$14,D$13)*D$15,$A32*$B$4*1000)) -> 0 | K32: =H32/($B$4*$A32*1000) -> 0 | L32: =I32/($B$4*$A32*1000) -> 0 | M32: =J32/($B$4*$A32*1000) -> 0
A33: =A32+0.5 -> 6.5 | B33: =IF($A33<1,0,MIN(MIN(B$7*B$10,B$9)*B$11,$A33*$B$4*1000)) -> 0 | C33: =IF($A33<0,0,MIN(MIN(C$7*C$10,C$9)*C$11,$A33*$B$4*1000)) -> 0 | D33: =IF($A33<1,0,MIN(MIN(D$7*D$10,D$9)*D$11,$A33*$B$4*1000)) -> 0 | E33: =B33/($B$4*$A33*1000) -> 0 | F33: =C33/($B$4*$A33*1000) -> 0 | G33: =D33/($B$4*$A33*1000) -> 0 | H33: =IF($A33<1,0,MIN(MIN(B$7*B$14,B$13)*B$15,$A33*$B$4*1000)) -> 0 | I33: =IF($A33<1,0,MIN(MIN(C$7*C$14,C$13)*C$15,$A33*$B$4*1000)) -> 0 | J33: =IF($A33<1,0,MIN(MIN(D$7*D$14,D$13)*D$15,$A33*$B$4*1000)) -> 0 | K33: =H33/($B$4*$A33*1000) -> 0 | L33: =I33/($B$4*$A33*1000) -> 0 | M33: =J33/($B$4*$A33*1000) -> 0
... A120: =A119+0.5 -> 50 | B120: =IF($A120<1,0,MIN(MIN(B$7*B$10,B$9)*B$11,$A120*$B$4*1000)) -> 0 | C120: =IF($A120<0,0,MIN(MIN(C$7*C$10,C$9)*C$11,$A120*$B$4*1000)) -> 0 | D120: =IF($A120<1,0,MIN(MIN(D$7*D$10,D$9)*D$11,$A120*$B$4*1000)) -> 0 | E120: =B120/($B$4*$A120*1000) -> 0 | F120: =C120/($B$4*$A120*1000) -> 0 | G120: =D120/($B$4*$A120*1000) -> 0 | H120: =IF($A120<1,0,MIN(MIN(B$7*B$14,B$13)*B$15,$A120*$B$4*1000)) -> 0 | I120: =IF($A120<1,0,MIN(MIN(C$7*C$14,C$13)*C$15,$A120*$B$4*1000)) -> 0 | J120: =IF($A120<1,0,MIN(MIN(D$7*D$14,D$13)*D$15,$A120*$B$4*1000)) -> 0 | K120: =H120/($B$4*$A120*1000) -> 0 | L120: =I120/($B$4*$A120*1000) -> 0 | M120: =J120/($B$4*$A120*1000) -> 0

Sheet Escenari Energia Ambient
A1: ESTRATÈGIA 1
A3: Hipòtesis
A5: Aerotèrmia MONOBLOC R290 - 16kW | B5: 5661.5
A6: Dipòsit 270 L | B6: 1206
A7: Resistencia eléctrica para depósito BSX de 3kW | B7: 120.6
A8: Total | B8: =SUM(B5:B7) -> 6988.1
A11: Casos a analitzar | B11: Unifamiliar | C11: Plurifamiliar | D11: Terciari
A12: Quota IBI | B12: 800 | C12: 400 | D12: 19000
A13: Ràtio cost instal·lació unifamilar (€/kWn) | B13: 1.5 | C13: 1.2 | D13: 1
A14: Cost aerotèrmia aire-aigua (€) | B14: =B8 -> 6988.1 | C14: =B8 -> 6988.1 | D14: 60000
A16: Supòsit A, B i C
A17: Topall | B17: 300 | C17: 300 | D17: 4000
A18: Intensitat màxima | B18: 0.35 | C18: 0.5 | D18: 0.25
A19: Durada | B19: 2 | C19: 5 | D19: 3
A21: Supòsit E (Comunitat Energètica)
A22: Topall | B22: 300 | C22: 300 | D22: 4000
A23: Intensitat màxima | B23: 0.35 | C23: 0.5 | D23: 0.25
A24: Durada | B24: 5 | C24: 5 | D24: 5
A25: Si CE un any més per uni i terciaris
A26: Supòsit energia ambient
A27: Topall | B27: 300 | C27: 300 | D27: 4000
A28: Intensitat màxima | B28: 0.35 | C28: 0.5 | D28: 0.25
A29: Durada | B29: 2 | C29: 5 | D29: 3
A30: Topall màxim agregat | B30: 600 | C30: 600 | D30: 8000
A31: Intensitat màxima agregat | B31: 0.5 | C31: 0.5 | D31: 0.5
A32: Durada màxima agregat | B32: 3 | C32: 5 | D32: 3
A33: Energia ambient mateixes condicions que FV. Si és agregat es sumen els topalls i la intensitat, però cumplint en intensitat màxima del 50%.. Pels casos uni: la duració de l'agregat augmentarà un any perquè així sempre surti a compte fer-ho de forma agregada. Pels casos terciari la duració de l'agregat continuarà sent 3, perquè com que FV individual o aerotèrmia individual és el 25% cada un, mai sortirà a compte fer-ho per separat vs fer-ho agregat

Sheet Dades Energia Ambient
B1: ='[1]Escenari Energia Ambient 1'!A16 -> Supòsit A, B i C | H1: ='[1]Escenari Energia Ambient 1'!A21 -> Supòsit E (Comunitat Energètica) | N1: ='[1]Escenari Energia Ambient 1'!A26 -> Supòsit energia ambient
B2: Bonificació IBI | E2: Intensitat sobre la inversió | H2: Bonificació IBI | K2: Intensitat sobre la inversió | N2: Bonificació IBI | Q2: Intensitat sobre la inversió
A3: Potència instal·lada (kWn) | B3: ='[1]Escenari Energia Ambient 1'!B11 -> Unifamiliar | C3: ='[1]Escenari Energia Ambient 1'!C11 -> Plurifamiliar | D3: ='[1]Escenari Energia Ambient 1'!D11 -> Terciari | E3: Unifamiliar | F3: Plurifamiliar | G3: Terciari | H3: =B3 -> Unifamiliar | I3: =C3 -> Plurifamiliar | J3: =D3 -> Terciari | K3: =E3 -> Unifamiliar | L3: =F3 -> Plurifamiliar | M3: =G3 -> Terciari | N3: =H3 -> Unifamiliar | O3: =I3 -> Plurifamiliar | ... S3: =M3 -> Terciari
A4: 0 | N4: =IF(B4=0,(MIN(MIN('Escenari Energia Ambient'!B$12*'Escenari Energia Ambient'!B$28,'Escenari Energia Ambient'!B$27)*'Escenari Energia Ambient'!B$29,'Escenari Energia Ambient'!B$14)+B4),MIN(MIN('Escenari Energia Ambient'!B$12*'Escenari Energia Ambient'!B$31,'Escenari Energia Ambient'!B$30)*'Escenari Energia Ambient'!B$32,'Escenari Energia Ambient'!B$14+$A4*'Escenari Energia Ambient'!B$13)) -> 560 | O4: =IF(C4=0,(MIN(MIN('Escenari Energia Ambient'!C$12*'Escenari Energia Ambient'!C$28,'Escenari Energia Ambient'!C$27)*'Escenari Energia Ambient'!C$29,'Escenari Energia Ambient'!C$14)+C4),MIN(MIN('Escenari Energia Ambient'!C$12*'Escenari Energia Ambient'!C$31,'Escenari Energia Ambient'!C$30)*'Escenari Energia Ambient'!C$32,'Escenari Energia Ambient'!C$14+$A4*'Escenari Energia Ambient'!C$13)) -> 1000 | P4: =IF(D4=0,(MIN(MIN('Escenari Energia Ambient'!D$12*'Escenari Energia Ambient'!D$28,'Escenari Energia Ambient'!D$27)*'Escenari Energia Ambient'!D$29,'Escenari Energia Ambient'!D$14)+D4),MIN(MIN('Escenari Energia Ambient'!D$12*'Escenari Energia Ambient'!D$31,'Escenari Energia Ambient'!D$30)*'Escenari Energia Ambient'!D$32,'Escenari Energia Ambient'!D$14+$A4*'Escenari Energia Ambient'!D$13)) -> 12000 | Q4: =N4/('Escenari Energia Ambient'!B$13*$A4*1000+'Escenari Energia Ambient'!B$14) -> 0.080136232 | R4: =O4/('Escenari Energia Ambient'!C$13*$A4*1000+'Escenari Energia Ambient'!C$14) -> 0.14310041 | S4: =P4/('Escenari Energia Ambient'!D$13*$A4*1000+'Escenari Energia Ambient'!D$14) -> 0.2
A5: 0.5 | B5: =IF($A5<1,0,MIN(MIN('Escenari Energia Ambient'!B$12*'Escenari Energia Ambient'!B$18,'Escenari Energia Ambient'!B$17)*'Escenari Energia Ambient'!B$19,$A5*'Escenari Energia Ambient'!B$13*1000)) -> 0 | C5: =IF($A5<0,0,MIN(MIN('Escenari Energia Ambient'!C$12*'Escenari Energia Ambient'!C$18,'Escenari Energia Ambient'!C$17)*'Escenari Energia Ambient'!C$19,$A5*'Escenari Energia Ambient'!C$13*1000)) -> 600 | D5: =IF($A5<1,0,MIN(MIN('Escenari Energia Ambient'!D$12*'Escenari Energia Ambient'!D$18,'Escenari Energia Ambient'!D$17)*'Escenari Energia Ambient'!D$19,$A5*'Escenari Energia Ambient'!D$13*1000)) -> 0 | E5: =B5/('Escenari Energia Ambient'!B$13*$A5*1000) -> 0 | F5: =C5/('Escenari Energia Ambient'!C$13*$A5*1000) -> 1 | G5: =D5/('Escenari Energia Ambient'!D$13*$A5*1000) -> 0 | H5: =IF($A5<1,0,MIN(MIN('Escenari Energia Ambient'!B$12*'Escenari Energia Ambient'!B$23,'Escenari Energia Ambient'!B$22)*'Escenari Energia Ambient'!B$24,$A5*'Escenari Energia Ambient'!B$13*1000)) -> 0 | I5: =IF($A5<0,0,MIN(MIN('Escenari Energia Ambient'!C$12*'Escenari Energia Ambient'!C$23,'Escenari Energia Ambient'!C$22)*'Escenari Energia Ambient'!C$24,$A5*'Escenari Energia Ambient'!C$13*1000)) -> 600 | J5: =IF($A5<1,0,MIN(MIN('Escenari Energia Ambient'!D$12*'Escenari Energia Ambient'!D$23,'Escenari Energia Ambient'!D$22)*'Escenari Energia Ambient'!D$24,$A5*'Escenari Energia Ambient'!D$13*1000)) -> 0 | K5: =H5/('Escenari Energia Ambient'!B$13*$A5*1000) -> 0 | L5: =I5/('Escenari Energia Ambient'!C$13*$A5*1000) -> 1 | M5: =J5/('Escenari Energia Ambient'!D$13*$A5*1000) -> 0 | N5: =IF(B5=0,(MIN(MIN('Escenari Energia Ambient'!B$12*'Escenari Energia Ambient'!B$28,'Escenari Energia Ambient'!B$27)*'Escenari Energia Ambient'!B$29,'Escenari Energia Ambient'!B$14)+B5),MIN(MIN('Escenari Energia Ambient'!B$12*'Escenari Energia Ambient'!B$31,'Escenari Energia Ambient'!B$30)*'Escenari Energia Ambient'!B$32,'Escenari Energia Ambient'!B$14+$A5*'Escenari Energia Ambient'!B$13)) -> 560 | O5: =IF(C5=0,(MIN(MIN('Escenari Energia Ambient'!C$12*'Escenari Energia Ambient'!C$28,'Escenari Energia Ambient'!C$27)*'Escenari Energia Ambient'!C$29,'Escenari Energia Ambient'!C$14)+C5),MIN(MIN('Escenari Energia Ambient'!C$12*'Escenari Energia Ambient'!C$31,'Escenari Energia Ambient'!C$30)*'Escenari Energia Ambient'!C$32,'Escenari Energia Ambient'!C$14+$A5*'Escenari Energia Ambient'!C$13)) -> 1000 | P5: =IF(D5=0,(MIN(MIN('Escenari Energia Ambient'!D$12*'Escenari Energia Ambient'!D$28,'Escenari Energia Ambient'!D$27)*'Escenari Energia Ambient'!D$29,'Escenari Energia Ambient'!D$14)+D5),MIN(MIN('Escenari Energia Ambient'!D$12*'Escenari Energia Ambient'!D$31,'Escenari Energia Ambient'!D$30)*'Escenari Energia Ambient'!D$32,'Escenari Energia Ambient'!D$14+$A5*'Escenari Energia Ambient'!D$13)) -> 12000 | Q5: =N5/('Escenari Energia Ambient'!B$13*$A5*1000+'Escenari Energia Ambient'!B$14) -> 0.072369186 | R5: =O5/('Escenari Energia Ambient'!C$13*$A5*1000+'Escenari Energia Ambient'!C$14) -> 0.1317853 | S5: =P5/('Escenari Energia Ambient'!D$13*$A5*1000+'Escenari Energia Ambient'!D$14) -> 0.19834711
A6: =A5+0.5 -> 1 | B6: =IF($A6<1,0,MIN(MIN('Escenari Energia Ambient'!B$12*'Escenari Energia Ambient'!B$18,'Escenari Energia Ambient'!B$17)*'Escenari Energia Ambient'!B$19,$A6*'Escenari Energia Ambient'!B$13*1000)) -> 560 | C6: =IF($A6<0,0,MIN(MIN('Escenari Energia Ambient'!C$12*'Escenari Energia Ambient'!C$18,'Escenari Energia Ambient'!C$17)*'Escenari Energia Ambient'!C$19,$A6*'Escenari Energia Ambient'!C$13*1000)) -> 1000 | D6: =IF($A6<1,0,MIN(MIN('Escenari Energia Ambient'!D$12*'Escenari Energia Ambient'!D$18,'Escenari Energia Ambient'!D$17)*'Escenari Energia Ambient'!D$19,$A6*'Escenari Energia Ambient'!D$13*1000)) -> 1000 | E6: =B6/('Escenari Energia Ambient'!B$13*$A6*1000) -> 0.37333333 | F6: =C6/('Escenari Energia Ambient'!C$13*$A6*1000) -> 0.83333333 | G6: =D6/('Escenari Energia Ambient'!D$13*$A6*1000) -> 1 | H6: =IF($A6<1,0,MIN(MIN('Escenari Energia Ambient'!B$12*'Escenari Energia Ambient'!B$23,'Escenari Energia Ambient'!B$22)*'Escenari Energia Ambient'!B$24,$A6*'Escenari Energia Ambient'!B$13*1000)) -> 1400 | I6: =IF($A6<0,0,MIN(MIN('Escenari Energia Ambient'!C$12*'Escenari Energia Ambient'!C$23,'Escenari Energia Ambient'!C$22)*'Escenari Energia Ambient'!C$24,$A6*'Escenari Energia Ambient'!C$13*1000)) -> 1000 | J6: =IF($A6<1,0,MIN(MIN('Escenari Energia Ambient'!D$12*'Escenari Energia Ambient'!D$23,'Escenari Energia Ambient'!D$22)*'Escenari Energia Ambient'!D$24,$A6*'Escenari Energia Ambient'!D$13*1000)) -> 1000 | K6: =H6/('Escenari Energia Ambient'!B$13*$A6*1000) -> 0.93333333 | L6: =I6/('Escenari Energia Ambient'!C$13*$A6*1000) -> 0.83333333 | M6: =J6/('Escenari Energia Ambient'!D$13*$A6*1000) -> 1 | N6: =IF(B6=0,(MIN(MIN('Escenari Energia Ambient'!B$12*'Escenari Energia Ambient'!B$28,'Escenari Energia Ambient'!B$27)*'Escenari Energia Ambient'!B$29,'Escenari Energia Ambient'!B$14)+B6),MIN(MIN('Escenari Energia Ambient'!B$12*'Escenari Energia Ambient'!B$31,'Escenari Energia Ambient'!B$30)*'Escenari Energia Ambient'!B$32,'Escenari Energia Ambient'!B$14+$A6*'Escenari Energia Ambient'!B$13)) -> 1200 | O6: =IF(C6=0,(MIN(MIN('Escenari Energia Ambient'!C$12*'Escenari Energia Ambient'!C$28,'Escenari Energia Ambient'!C$27)*'Escenari Energia Ambient'!C$29,'Escenari Energia Ambient'!C$14)+C6),MIN(MIN('Escenari Energia Ambient'!C$12*'Escenari Energia Ambient'!C$31,'Escenari Energia Ambient'!C$30)*'Escenari Energia Ambient'!C$32,'Escenari Energia Ambient'!C$14+$A6*'Escenari Energia Ambient'!C$13)) -> 1000 | P6: =IF(D6=0,(MIN(MIN('Escenari Energia Ambient'!D$12*'Escenari Energia Ambient'!D$28,'Escenari Energia Ambient'!D$27)*'Escenari Energia Ambient'!D$29,'Escenari Energia Ambient'!D$14)+D6),MIN(MIN('Escenari Energia Ambient'!D$12*'Escenari Energia Ambient'!D$31,'Escenari Energia Ambient'!D$30)*'Escenari Energia Ambient'!D$32,'Escenari Energia Ambient'!D$14+$A6*'Escenari Energia Ambient'!D$13)) -> 24000 | Q6: =N6/('Escenari Energia Ambient'!B$13*$A6*1000+'Escenari Energia Ambient'!B$14) -> 0.14137439 | R6: =O6/('Escenari Energia Ambient'!C$13*$A6*1000+'Escenari Energia Ambient'!C$14) -> 0.12212845 | S6: =P6/('Escenari Energia Ambient'!D$13*$A6*1000+'Escenari Energia Ambient'!D$14) -> 0.39344262
A7: =A6+0.5 -> 1.5 | B7: =IF($A7<1,0,MIN(MIN('Escenari Energia Ambient'!B$12*'Escenari Energia Ambient'!B$18,'Escenari Energia Ambient'!B$17)*'Escenari Energia Ambient'!B$19,$A7*'Escenari Energia Ambient'!B$13*1000)) -> 560 | C7: =IF($A7<0,0,MIN(MIN('Escenari Energia Ambient'!C$12*'Escenari Energia Ambient'!C$18,'Escenari Energia Ambient'!C$17)*'Escenari Energia Ambient'!C$19,$A7*'Escenari Energia Ambient'!C$13*1000)) -> 1000 | D7: =IF($A7<1,0,MIN(MIN('Escenari Energia Ambient'!D$12*'Escenari Energia Ambient'!D$18,'Escenari Energia Ambient'!D$17)*'Escenari Energia Ambient'!D$19,$A7*'Escenari Energia Ambient'!D$13*1000)) -> 1500 | E7: =B7/('Escenari Energia Ambient'!B$13*$A7*1000) -> 0.24888889 | F7: =C7/('Escenari Energia Ambient'!C$13*$A7*1000) -> 0.55555556 | G7: =D7/('Escenari Energia Ambient'!D$13*$A7*1000) -> 1 | H7: =IF($A7<1,0,MIN(MIN('Escenari Energia Ambient'!B$12*'Escenari Energia Ambient'!B$23,'Escenari Energia Ambient'!B$22)*'Escenari Energia Ambient'!B$24,$A7*'Escenari Energia Ambient'!B$13*1000)) -> 1400 | I7: =IF($A7<0,0,MIN(MIN('Escenari Energia Ambient'!C$12*'Escenari Energia Ambient'!C$23,'Escenari Energia Ambient'!C$22)*'Escenari Energia Ambient'!C$24,$A7*'Escenari Energia Ambient'!C$13*1000)) -> 1000 | J7: =IF($A7<1,0,MIN(MIN('Escenari Energia Ambient'!D$12*'Escenari Energia Ambient'!D$23,'Escenari Energia Ambient'!D$22)*'Escenari Energia Ambient'!D$24,$A7*'Escenari Energia Ambient'!D$13*1000)) -> 1500 | K7: =H7/('Escenari Energia Ambient'!B$13*$A7*1000) -> 0.62222222 | L7: =I7/('Escenari Energia Ambient'!C$13*$A7*1000) -> 0.55555556 | M7: =J7/('Escenari Energia Ambient'!D$13*$A7*1000) -> 1 | N7: =IF(B7=0,(MIN(MIN('Escenari Energia Ambient'!B$12*'Escenari Energia Ambient'!B$28,'Escenari Energia Ambient'!B$27)*'Escenari Energia Ambient'!B$29,'Escenari Energia Ambient'!B$14)+B7),MIN(MIN('Escenari Energia Ambient'!B$12*'Escenari Energia Ambient'!B$31,'Escenari Energia Ambient'!B$30)*'Escenari Energia Ambient'!B$32,'Escenari Energia Ambient'!B$14+$A7*'Escenari Energia Ambient'!B$13)) -> 1200 | O7: =IF(C7=0,(MIN(MIN('Escenari Energia Ambient'!C$12*'Escenari Energia Ambient'!C$28,'Escenari Energia Ambient'!C$27)*'Escenari Energia Ambient'!C$29,'Escenari Energia Ambient'!C$14)+C7),MIN(MIN('Escenari Energia Ambient'!C$12*'Escenari Energia Ambient'!C$31,'Escenari Energia Ambient'!C$30)*'Escenari Energia Ambient'!C$32,'Escenari Energia Ambient'!C$14+$A7*'Escenari Energia Ambient'!C$13)) -> 1000 | P7: =IF(D7=0,(MIN(MIN('Escenari Energia Ambient'!D$12*'Escenari Energia Ambient'!D$28,'Escenari Energia Ambient'!D$27)*'Escenari Energia Ambient'!D$29,'Escenari Energia Ambient'!D$14)+D7),MIN(MIN('Escenari Energia Ambient'!D$12*'Escenari Energia Ambient'!D$31,'Escenari Energia Ambient'!D$30)*'Escenari Energia Ambient'!D$32,'Escenari Energia Ambient'!D$14+$A7*'Escenari Energia Ambient'!D$13)) -> 24000 | Q7: =N7/('Escenari Energia Ambient'!B$13*$A7*1000+'Escenari Energia Ambient'!B$14) -> 0.12989684 | R7: =O7/('Escenari Energia Ambient'!C$13*$A7*1000+'Escenari Energia Ambient'!C$14) -> 0.11379024 | S7: =P7/('Escenari Energia Ambient'!D$13*$A7*1000+'Escenari Energia Ambient'!D$14) -> 0.3902439
A8: =A7+0.5 -> 2 | B8: =IF($A8<1,0,MIN(MIN('Escenari Energia Ambient'!B$12*'Escenari Energia Ambient'!B$18,'Escenari Energia Ambient'!B$17)*'Escenari Energia Ambient'!B$19,$A8*'Escenari Energia Ambient'!B$13*1000)) -> 560 | C8: =IF($A8<0,0,MIN(MIN('Escenari Energia Ambient'!C$12*'Escenari Energia Ambient'!C$18,'Escenari Energia Ambient'!C$17)*'Escenari Energia Ambient'!C$19,$A8*'Escenari Energia Ambient'!C$13*1000)) -> 1000 | D8: =IF($A8<1,0,MIN(MIN('Escenari Energia Ambient'!D$12*'Escenari Energia Ambient'!D$18,'Escenari Energia Ambient'!D$17)*'Escenari Energia Ambient'!D$19,$A8*'Escenari Energia Ambient'!D$13*1000)) -> 2000 | E8: =B8/('Escenari Energia Ambient'!B$13*$A8*1000) -> 0.18666667 | F8: =C8/('Escenari Energia Ambient'!C$13*$A8*1000) -> 0.41666667 | G8: =D8/('Escenari Energia Ambient'!D$13*$A8*1000) -> 1 | H8: =IF($A8<1,0,MIN(MIN('Escenari Energia Ambient'!B$12*'Escenari Energia Ambient'!B$23,'Escenari Energia Ambient'!B$22)*'Escenari Energia Ambient'!B$24,$A8*'Escenari Energia Ambient'!B$13*1000)) -> 1400 | I8: =IF($A8<0,0,MIN(MIN('Escenari Energia Ambient'!C$12*'Escenari Energia Ambient'!C$23,'Escenari Energia Ambient'!C$22)*'Escenari Energia Ambient'!C$24,$A8*'Escenari Energia Ambient'!C$13*1000)) -> 1000 | J8: =IF($A8<1,0,MIN(MIN('Escenari Energia Ambient'!D$12*'Escenari Energia Ambient'!D$23,'Escenari Energia Ambient'!D$22)*'Escenari Energia Ambient'!D$24,$A8*'Escenari Energia Ambient'!D$13*1000)) -> 2000 | K8: =H8/('Escenari Energia Ambient'!B$13*$A8*1000) -> 0.46666667 | L8: =I8/('Escenari Energia Ambient'!C$13*$A8*1000) -> 0.41666667 | M8: =J8/('Escenari Energia Ambient'!D$13*$A8*1000) -> 1 | N8: =IF(B8=0,(MIN(MIN('Escenari Energia Ambient'!B$12*'Escenari Energia Ambient'!B$28,'Escenari Energia Ambient'!B$27)*'Escenari Energia Ambient'!B$29,'Escenari Energia Ambient'!B$14)+B8),MIN(MIN('Escenari Energia Ambient'!B$12*'Escenari Energia Ambient'!B$31,'Escenari Energia Ambient'!B$30)*'Escenari Energia Ambient'!B$32,'Escenari Energia Ambient'!B$14+$A8*'Escenari Energia Ambient'!B$13)) -> 1200 | O8: =IF(C8=0,(MIN(MIN('Escenari Energia Ambient'!C$12*'Escenari Energia Ambient'!C$28,'Escenari Energia Ambient'!C$27)*'Escenari Energia Ambient'!C$29,'Escenari Energia Ambient'!C$14)+C8),MIN(MIN('Escenari Energia Ambient'!C$12*'Escenari Energia Ambient'!C$31,'Escenari Energia Ambient'!C$30)*'Escenari Energia Ambient'!C$32,'Escenari Energia Ambient'!C$14+$A8*'Escenari Energia Ambient'!C$13)) -> 1000 | P8: =IF(D8=0,(MIN(MIN('Escenari Energia Ambient'!D$12*'Escenari Energia Ambient'!D$28,'Escenari Energia Ambient'!D$27)*'Escenari Energia Ambient'!D$29,'Escenari Energia Ambient'!D$14)+D8),MIN(MIN('Escenari Energia Ambient'!D$12*'Escenari Energia Ambient'!D$31,'Escenari Energia Ambient'!D$30)*'Escenari Energia Ambient'!D$32,'Escenari Energia Ambient'!D$14+$A8*'Escenari Energia Ambient'!D$13)) -> 24000 | Q8: =N8/('Escenari Energia Ambient'!B$13*$A8*1000+'Escenari Energia Ambient'!B$14) -> 0.12014297 | R8: =O8/('Escenari Energia Ambient'!C$13*$A8*1000+'Escenari Energia Ambient'!C$14) -> 0.10651783 | S8: =P8/('Escenari Energia Ambient'!D$13*$A8*1000+'Escenari Energia Ambient'!D$14) -> 0.38709677
A9: =A8+0.5 -> 2.5 | B9: =IF($A9<1,0,MIN(MIN('Escenari Energia Ambient'!B$12*'Escenari Energia Ambient'!B$18,'Escenari Energia Ambient'!B$17)*'Escenari Energia Ambient'!B$19,$A9*'Escenari Energia Ambient'!B$13*1000)) -> 560 | C9: =IF($A9<0,0,MIN(MIN('Escenari Energia Ambient'!C$12*'Escenari Energia Ambient'!C$18,'Escenari Energia Ambient'!C$17)*'Escenari Energia Ambient'!C$19,$A9*'Escenari Energia Ambient'!C$13*1000)) -> 1000 | D9: =IF($A9<1,0,MIN(MIN('Escenari Energia Ambient'!D$12*'Escenari Energia Ambient'!D$18,'Escenari Energia Ambient'!D$17)*'Escenari Energia Ambient'!D$19,$A9*'Escenari Energia Ambient'!D$13*1000)) -> 2500 | E9: =B9/('Escenari Energia Ambient'!B$13*$A9*1000) -> 0.14933333 | F9: =C9/('Escenari Energia Ambient'!C$13*$A9*1000) -> 0.33333333 | G9: =D9/('Escenari Energia Ambient'!D$13*$A9*1000) -> 1 | H9: =IF($A9<1,0,MIN(MIN('Escenari Energia Ambient'!B$12*'Escenari Energia Ambient'!B$23,'Escenari Energia Ambient'!B$22)*'Escenari Energia Ambient'!B$24,$A9*'Escenari Energia Ambient'!B$13*1000)) -> 1400 | I9: =IF($A9<0,0,MIN(MIN('Escenari Energia Ambient'!C$12*'Escenari Energia Ambient'!C$23,'Escenari Energia Ambient'!C$22)*'Escenari Energia Ambient'!C$24,$A9*'Escenari Energia Ambient'!C$13*1000)) -> 1000 | J9: =IF($A9<1,0,MIN(MIN('Escenari Energia Ambient'!D$12*'Escenari Energia Ambient'!D$23,'Escenari Energia Ambient'!D$22)*'Escenari Energia Ambient'!D$24,$A9*'Escenari Energia Ambient'!D$13*1000)) -> 2500 | K9: =H9/('Escenari Energia Ambient'!B$13*$A9*1000) -> 0.37333333 | L9: =I9/('Escenari Energia Ambient'!C$13*$A9*1000) -> 0.33333333 | M9: =J9/('Escenari Energia Ambient'!D$13*$A9*1000) -> 1 | N9: =IF(B9=0,(MIN(MIN('Escenari Energia Ambient'!B$12*'Escenari Energia Ambient'!B$28,'Escenari Energia Ambient'!B$27)*'Escenari Energia Ambient'!B$29,'Escenari Energia Ambient'!B$14)+B9),MIN(MIN('Escenari Energia Ambient'!B$12*'Escenari Energia Ambient'!B$31,'Escenari Energia Ambient'!B$30)*'Escenari Energia Ambient'!B$32,'Escenari Energia Ambient'!B$14+$A9*'Escenari Energia Ambient'!B$13)) -> 1200 | O9: =IF(C9=0,(MIN(MIN('Escenari Energia Ambient'!C$12*'Escenari Energia Ambient'!C$28,'Escenari Energia Ambient'!C$27)*'Escenari Energia Ambient'!C$29,'Escenari Energia Ambient'!C$14)+C9),MIN(MIN('Escenari Energia Ambient'!C$12*'Escenari Energia Ambient'!C$31,'Escenari Energia Ambient'!C$30)*'Escenari Energia Ambient'!C$32,'Escenari Energia Ambient'!C$14+$A9*'Escenari Energia Ambient'!C$13)) -> 1000 | P9: =IF(D9=0,(MIN(MIN('Escenari Energia Ambient'!D$12*'Escenari Energia Ambient'!D$28,'Escenari Energia Ambient'!D$27)*'Escenari Energia Ambient'!D$29,'Escenari Energia Ambient'!D$14)+D9),MIN(MIN('Escenari Energia Ambient'!D$12*'Escenari Energia Ambient'!D$31,'Escenari Energia Ambient'!D$30)*'Escenari Energia Ambient'!D$32,'Escenari Energia Ambient'!D$14+$A9*'Escenari Energia Ambient'!D$13)) -> 24000 | Q9: =N9/('Escenari Energia Ambient'!B$13*$A9*1000+'Escenari Energia Ambient'!B$14) -> 0.11175161 | R9: =O9/('Escenari Energia Ambient'!C$13*$A9*1000+'Escenari Energia Ambient'!C$14) -> 0.10011914 | S9: =P9/('Escenari Energia Ambient'!D$13*$A9*1000+'Escenari Energia Ambient'!D$14) -> 0.384 | U9: =35*2*2 -> 140
A10: =A9+0.5 -> 3 | B10: =IF($A10<1,0,MIN(MIN('Escenari Energia Ambient'!B$12*'Escenari Energia Ambient'!B$18,'Escenari Energia Ambient'!B$17)*'Escenari Energia Ambient'!B$19,$A10*'Escenari Energia Ambient'!B$13*1000)) -> 560 | C10: =IF($A10<0,0,MIN(MIN('Escenari Energia Ambient'!C$12*'Escenari Energia Ambient'!C$18,'Escenari Energia Ambient'!C$17)*'Escenari Energia Ambient'!C$19,$A10*'Escenari Energia Ambient'!C$13*1000)) -> 1000 | D10: =IF($A10<1,0,MIN(MIN('Escenari Energia Ambient'!D$12*'Escenari Energia Ambient'!D$18,'Escenari Energia Ambient'!D$17)*'Escenari Energia Ambient'!D$19,$A10*'Escenari Energia Ambient'!D$13*1000)) -> 3000 | E10: =B10/('Escenari Energia Ambient'!B$13*$A10*1000) -> 0.12444444 | F10: =C10/('Escenari Energia Ambient'!C$13*$A10*1000) -> 0.27777778 | G10: =D10/('Escenari Energia Ambient'!D$13*$A10*1000) -> 1 | H10: =IF($A10<1,0,MIN(MIN('Escenari Energia Ambient'!B$12*'Escenari Energia Ambient'!B$23,'Escenari Energia Ambient'!B$22)*'Escenari Energia Ambient'!B$24,$A10*'Escenari Energia Ambient'!B$13*1000)) -> 1400 | I10: =IF($A10<0,0,MIN(MIN('Escenari Energia Ambient'!C$12*'Escenari Energia Ambient'!C$23,'Escenari Energia Ambient'!C$22)*'Escenari Energia Ambient'!C$24,$A10*'Escenari Energia Ambient'!C$13*1000)) -> 1000 | J10: =IF($A10<1,0,MIN(MIN('Escenari Energia Ambient'!D$12*'Escenari Energia Ambient'!D$23,'Escenari Energia Ambient'!D$22)*'Escenari Energia Ambient'!D$24,$A10*'Escenari Energia Ambient'!D$13*1000)) -> 3000 | K10: =H10/('Escenari Energia Ambient'!B$13*$A10*1000) -> 0.31111111 | L10: =I10/('Escenari Energia Ambient'!C$13*$A10*1000) -> 0.27777778 | M10: =J10/('Escenari Energia Ambient'!D$13*$A10*1000) -> 1 | N10: =IF(B10=0,(MIN(MIN('Escenari Energia Ambient'!B$12*'Escenari Energia Ambient'!B$28,'Escenari Energia Ambient'!B$27)*'Escenari Energia Ambient'!B$29,'Escenari Energia Ambient'!B$14)+B10),MIN(MIN('Escenari Energia Ambient'!B$12*'Escenari Energia Ambient'!B$31,'Escenari Energia Ambient'!B$30)*'Escenari Energia Ambient'!B$32,'Escenari Energia Ambient'!B$14+$A10*'Escenari Energia Ambient'!B$13)) -> 1200 | O10: =IF(C10=0,(MIN(MIN('Escenari Energia Ambient'!C$12*'Escenari Energia Ambient'!C$28,'Escenari Energia Ambient'!C$27)*'Escenari Energia Ambient'!C$29,'Escenari Energia Ambient'!C$14)+C10),MIN(MIN('Escenari Energia Ambient'!C$12*'Escenari Energia Ambient'!C$31,'Escenari Energia Ambient'!C$30)*'Escenari Energia Ambient'!C$32,'Escenari Energia Ambient'!C$14+$A10*'Escenari Energia Ambient'!C$13)) -> 1000 | P10: =IF(D10=0,(MIN(MIN('Escenari Energia Ambient'!D$12*'Escenari Energia Ambient'!D$28,'Escenari Energia Ambient'!D$27)*'Escenari Energia Ambient'!D$29,'Escenari Energia Ambient'!D$14)+D10),MIN(MIN('Escenari Energia Ambient'!D$12*'Escenari Energia Ambient'!D$31,'Escenari Energia Ambient'!D$30)*'Escenari Energia Ambient'!D$32,'Escenari Energia Ambient'!D$14+$A10*'Escenari Energia Ambient'!D$13)) -> 24000 | Q10: =N10/('Escenari Energia Ambient'!B$13*$A10*1000+'Escenari Energia Ambient'!B$14) -> 0.10445592 | R10: =O10/('Escenari Energia Ambient'!C$13*$A10*1000+'Escenari Energia Ambient'!C$14) -> 0.094445651 | S10: =P10/('Escenari Energia Ambient'!D$13*$A10*1000+'Escenari Energia Ambient'!D$14) -> 0.38095238
A11: =A10+0.5 -> 3.5 | B11: =IF($A11<1,0,MIN(MIN('Escenari Energia Ambient'!B$12*'Escenari Energia Ambient'!B$18,'Escenari Energia Ambient'!B$17)*'Escenari Energia Ambient'!B$19,$A11*'Escenari Energia Ambient'!B$13*1000)) -> 560 | C11: =IF($A11<0,0,MIN(MIN('Escenari Energia Ambient'!C$12*'Escenari Energia Ambient'!C$18,'Escenari Energia Ambient'!C$17)*'Escenari Energia Ambient'!C$19,$A11*'Escenari Energia Ambient'!C$13*1000)) -> 1000 | D11: =IF($A11<1,0,MIN(MIN('Escenari Energia Ambient'!D$12*'Escenari Energia Ambient'!D$18,'Escenari Energia Ambient'!D$17)*'Escenari Energia Ambient'!D$19,$A11*'Escenari Energia Ambient'!D$13*1000)) -> 3500 | E11: =B11/('Escenari Energia Ambient'!B$13*$A11*1000) -> 0.10666667 | F11: =C11/('Escenari Energia Ambient'!C$13*$A11*1000) -> 0.23809524 | G11: =D11/('Escenari Energia Ambient'!D$13*$A11*1000) -> 1 | H11: =IF($A11<1,0,MIN(MIN('Escenari Energia Ambient'!B$12*'Escenari Energia Ambient'!B$23,'Escenari Energia Ambient'!B$22)*'Escenari Energia Ambient'!B$24,$A11*'Escenari Energia Ambient'!B$13*1000)) -> 1400 | I11: =IF($A11<0,0,MIN(MIN('Escenari Energia Ambient'!C$12*'Escenari Energia Ambient'!C$23,'Escenari Energia Ambient'!C$22)*'Escenari Energia Ambient'!C$24,$A11*'Escenari Energia Ambient'!C$13*1000)) -> 1000 | J11: =IF($A11<1,0,MIN(MIN('Escenari Energia Ambient'!D$12*'Escenari Energia Ambient'!D$23,'Escenari Energia Ambient'!D$22)*'Escenari Energia Ambient'!D$24,$A11*'Escenari Energia Ambient'!D$13*1000)) -> 3500 | K11: =H11/('Escenari Energia Ambient'!B$13*$A11*1000) -> 0.26666667 | L11: =I11/('Escenari Energia Ambient'!C$13*$A11*1000) -> 0.23809524 | M11: =J11/('Escenari Energia Ambient'!D$13*$A11*1000) -> 1 | N11: =IF(B11=0,(MIN(MIN('Escenari Energia Ambient'!B$12*'Escenari Energia Ambient'!B$28,'Escenari Energia Ambient'!B$27)*'Escenari Energia Ambient'!B$29,'Escenari Energia Ambient'!B$14)+B11),MIN(MIN('Escenari Energia Ambient'!B$12*'Escenari Energia Ambient'!B$31,'Escenari Energia Ambient'!B$30)*'Escenari Energia Ambient'!B$32,'Escenari Energia Ambient'!B$14+$A11*'Escenari Energia Ambient'!B$13)) -> 1200 | O11: =IF(C11=0,(MIN(MIN('Escenari Energia Ambient'!C$12*'Escenari Energia Ambient'!C$28,'Escenari Energia Ambient'!C$27)*'Escenari Energia Ambient'!C$29,'Escenari Energia Ambient'!C$14)+C11),MIN(MIN('Escenari Energia Ambient'!C$12*'Escenari Energia Ambient'!C$31,'Escenari Energia Ambient'!C$30)*'Escenari Energia Ambient'!C$32,'Escenari Energia Ambient'!C$14+$A11*'Escenari Energia Ambient'!C$13)) -> 1000 | P11: =IF(D11=0,(MIN(MIN('Escenari Energia Ambient'!D$12*'Escenari Energia Ambient'!D$28,'Escenari Energia Ambient'!D$27)*'Escenari Energia Ambient'!D$29,'Escenari Energia Ambient'!D$14)+D11),MIN(MIN('Escenari Energia Ambient'!D$12*'Escenari Energia Ambient'!D$31,'Escenari Energia Ambient'!D$30)*'Escenari Energia Ambient'!D$32,'Escenari Energia Ambient'!D$14+$A11*'Escenari Energia Ambient'!D$13)) -> 24000 | Q11: =N11/('Escenari Energia Ambient'!B$13*$A11*1000+'Escenari Energia Ambient'!B$14) -> 0.098054437 | R11: =O11/('Escenari Energia Ambient'!C$13*$A11*1000+'Escenari Energia Ambient'!C$14) -> 0.089380681 | S11: =P11/('Escenari Energia Ambient'!D$13*$A11*1000+'Escenari Energia Ambient'!D$14) -> 0.37795276
A12: =A11+0.5 -> 4 | B12: =IF($A12<1,0,MIN(MIN('Escenari Energia Ambient'!B$12*'Escenari Energia Ambient'!B$18,'Escenari Energia Ambient'!B$17)*'Escenari Energia Ambient'!B$19,$A12*'Escenari Energia Ambient'!B$13*1000)) -> 560 | C12: =IF($A12<0,0,MIN(MIN('Escenari Energia Ambient'!C$12*'Escenari Energia Ambient'!C$18,'Escenari Energia Ambient'!C$17)*'Escenari Energia Ambient'!C$19,$A12*'Escenari Energia Ambient'!C$13*1000)) -> 1000 | D12: =IF($A12<1,0,MIN(MIN('Escenari Energia Ambient'!D$12*'Escenari Energia Ambient'!D$18,'Escenari Energia Ambient'!D$17)*'Escenari Energia Ambient'!D$19,$A12*'Escenari Energia Ambient'!D$13*1000)) -> 4000 | E12: =B12/('Escenari Energia Ambient'!B$13*$A12*1000) -> 0.093333333 | F12: =C12/('Escenari Energia Ambient'!C$13*$A12*1000) -> 0.20833333 | G12: =D12/('Escenari Energia Ambient'!D$13*$A12*1000) -> 1 | H12: =IF($A12<1,0,MIN(MIN('Escenari Energia Ambient'!B$12*'Escenari Energia Ambient'!B$23,'Escenari Energia Ambient'!B$22)*'Escenari Energia Ambient'!B$24,$A12*'Escenari Energia Ambient'!B$13*1000)) -> 1400 | I12: =IF($A12<0,0,MIN(MIN('Escenari Energia Ambient'!C$12*'Escenari Energia Ambient'!C$23,'Escenari Energia Ambient'!C$22)*'Escenari Energia Ambient'!C$24,$A12*'Escenari Energia Ambient'!C$13*1000)) -> 1000 | J12: =IF($A12<1,0,MIN(MIN('Escenari Energia Ambient'!D$12*'Escenari Energia Ambient'!D$23,'Escenari Energia Ambient'!D$22)*'Escenari Energia Ambient'!D$24,$A12*'Escenari Energia Ambient'!D$13*1000)) -> 4000 | K12: =H12/('Escenari Energia Ambient'!B$13*$A12*1000) -> 0.23333333 | L12: =I12/('Escenari Energia Ambient'!C$13*$A12*1000) -> 0.20833333 | M12: =J12/('Escenari Energia Ambient'!D$13*$A12*1000) -> 1 | N12: =IF(B12=0,(MIN(MIN('Escenari Energia Ambient'!B$12*'Escenari Energia Ambient'!B$28,'Escenari Energia Ambient'!B$27)*'Escenari Energia Ambient'!B$29,'Escenari Energia Ambient'!B$14)+B12),MIN(MIN('Escenari Energia Ambient'!B$12*'Escenari Energia Ambient'!B$31,'Escenari Energia Ambient'!B$30)*'Escenari Energia Ambient'!B$32,'Escenari Energia Ambient'!B$14+$A12*'Escenari Energia Ambient'!B$13)) -> 1200 | O12: =IF(C12=0,(MIN(MIN('Escenari Energia Ambient'!C$12*'Escenari Energia Ambient'!C$28,'Escenari Energia Ambient'!C$27)*'Escenari Energia Ambient'!C$29,'Escenari Energia Ambient'!C$14)+C12),MIN(MIN('Escenari Energia Ambient'!C$12*'Escenari Energia Ambient'!C$31,'Escenari Energia Ambient'!C$30)*'Escenari Energia Ambient'!C$32,'Escenari Energia Ambient'!C$14+$A12*'Escenari Energia Ambient'!C$13)) -> 1000 | P12: =IF(D12=0,(MIN(MIN('Escenari Energia Ambient'!D$12*'Escenari Energia Ambient'!D$28,'Escenari Energia Ambient'!D$27)*'Escenari Energia Ambient'!D$29,'Escenari Energia Ambient'!D$14)+D12),MIN(MIN('Escenari Energia Ambient'!D$12*'Escenari Energia Ambient'!D$31,'Escenari Energia Ambient'!D$30)*'Escenari Energia Ambient'!D$32,'Escenari Energia Ambient'!D$14+$A12*'Escenari Energia Ambient'!D$13)) -> 24000 | Q12: =N12/('Escenari Energia Ambient'!B$13*$A12*1000+'Escenari Energia Ambient'!B$14) -> 0.092392267 | R12: =O12/('Escenari Energia Ambient'!C$13*$A12*1000+'Escenari Energia Ambient'!C$14) -> 0.084831313 | S12: =P12/('Escenari Energia Ambient'!D$13*$A12*1000+'Escenari Energia Ambient'!D$14) -> 0.375
A13: =A12+0.5 -> 4.5 | B13: =IF($A13<1,0,MIN(MIN('Escenari Energia Ambient'!B$12*'Escenari Energia Ambient'!B$18,'Escenari Energia Ambient'!B$17)*'Escenari Energia Ambient'!B$19,$A13*'Escenari Energia Ambient'!B$13*1000)) -> 560 | C13: =IF($A13<0,0,MIN(MIN('Escenari Energia Ambient'!C$12*'Escenari Energia Ambient'!C$18,'Escenari Energia Ambient'!C$17)*'Escenari Energia Ambient'!C$19,$A13*'Escenari Energia Ambient'!C$13*1000)) -> 1000 | D13: =IF($A13<1,0,MIN(MIN('Escenari Energia Ambient'!D$12*'Escenari Energia Ambient'!D$18,'Escenari Energia Ambient'!D$17)*'Escenari Energia Ambient'!D$19,$A13*'Escenari Energia Ambient'!D$13*1000)) -> 4500 | E13: =B13/('Escenari Energia Ambient'!B$13*$A13*1000) -> 0.082962963 | F13: =C13/('Escenari Energia Ambient'!C$13*$A13*1000) -> 0.18518519 | G13: =D13/('Escenari Energia Ambient'!D$13*$A13*1000) -> 1 | H13: =IF($A13<1,0,MIN(MIN('Escenari Energia Ambient'!B$12*'Escenari Energia Ambient'!B$23,'Escenari Energia Ambient'!B$22)*'Escenari Energia Ambient'!B$24,$A13*'Escenari Energia Ambient'!B$13*1000)) -> 1400 | I13: =IF($A13<0,0,MIN(MIN('Escenari Energia Ambient'!C$12*'Escenari Energia Ambient'!C$23,'Escenari Energia Ambient'!C$22)*'Escenari Energia Ambient'!C$24,$A13*'Escenari Energia Ambient'!C$13*1000)) -> 1000 | J13: =IF($A13<1,0,MIN(MIN('Escenari Energia Ambient'!D$12*'Escenari Energia Ambient'!D$23,'Escenari Energia Ambient'!D$22)*'Escenari Energia Ambient'!D$24,$A13*'Escenari Energia Ambient'!D$13*1000)) -> 4500 | K13: =H13/('Escenari Energia Ambient'!B$13*$A13*1000) -> 0.20740741 | L13: =I13/('Escenari Energia Ambient'!C$13*$A13*1000) -> 0.18518519 | M13: =J13/('Escenari Energia Ambient'!D$13*$A13*1000) -> 1 | N13: =IF(B13=0,(MIN(MIN('Escenari Energia Ambient'!B$12*'Escenari Energia Ambient'!B$28,'Escenari Energia Ambient'!B$27)*'Escenari Energia Ambient'!B$29,'Escenari Energia Ambient'!B$14)+B13),MIN(MIN('Escenari Energia Ambient'!B$12*'Escenari Energia Ambient'!B$31,'Escenari Energia Ambient'!B$30)*'Escenari Energia Ambient'!B$32,'Escenari Energia Ambient'!B$14+$A13*'Escenari Energia Ambient'!B$13)) -> 1200 | O13: =IF(C13=0,(MIN(MIN('Escenari Energia Ambient'!C$12*'Escenari Energia Ambient'!C$28,'Escenari Energia Ambient'!C$27)*'Escenari Energia Ambient'!C$29,'Escenari Energia Ambient'!C$14)+C13),MIN(MIN('Escenari Energia Ambient'!C$12*'Escenari Energia Ambient'!C$31,'Escenari Energia Ambient'!C$30)*'Escenari Energia Ambient'!C$32,'Escenari Energia Ambient'!C$14+$A13*'Escenari Energia Ambient'!C$13)) -> 1000 | P13: =IF(D13=0,(MIN(MIN('Escenari Energia Ambient'!D$12*'Escenari Energia Ambient'!D$28,'Escenari Energia Ambient'!D$27)*'Escenari Energia Ambient'!D$29,'Escenari Energia Ambient'!D$14)+D13),MIN(MIN('Escenari Energia Ambient'!D$12*'Escenari Energia Ambient'!D$31,'Escenari Energia Ambient'!D$30)*'Escenari Energia Ambient'!D$32,'Escenari Energia Ambient'!D$14+$A13*'Escenari Energia Ambient'!D$13)) -> 24000 | Q13: =N13/('Escenari Energia Ambient'!B$13*$A13*1000+'Escenari Energia Ambient'!B$14) -> 0.087348323 | R13: =O13/('Escenari Energia Ambient'!C$13*$A13*1000+'Escenari Energia Ambient'!C$14) -> 0.080722629 | S13: =P13/('Escenari Energia Ambient'!D$13*$A13*1000+'Escenari Energia Ambient'!D$14) -> 0.37209302
A14: =A13+0.5 -> 5 | B14: =IF($A14<1,0,MIN(MIN('Escenari Energia Ambient'!B$12*'Escenari Energia Ambient'!B$18,'Escenari Energia Ambient'!B$17)*'Escenari Energia Ambient'!B$19,$A14*'Escenari Energia Ambient'!B$13*1000)) -> 560 | C14: =IF($A14<0,0,MIN(MIN('Escenari Energia Ambient'!C$12*'Escenari Energia Ambient'!C$18,'Escenari Energia Ambient'!C$17)*'Escenari Energia Ambient'!C$19,$A14*'Escenari Energia Ambient'!C$13*1000)) -> 1000 | D14: =IF($A14<1,0,MIN(MIN('Escenari Energia Ambient'!D$12*'Escenari Energia Ambient'!D$18,'Escenari Energia Ambient'!D$17)*'Escenari Energia Ambient'!D$19,$A14*'Escenari Energia Ambient'!D$13*1000)) -> 5000 | E14: =B14/('Escenari Energia Ambient'!B$13*$A14*1000) -> 0.074666667 | F14: =C14/('Escenari Energia Ambient'!C$13*$A14*1000) -> 0.16666667 | G14: =D14/('Escenari Energia Ambient'!D$13*$A14*1000) -> 1 | H14: =IF($A14<1,0,MIN(MIN('Escenari Energia Ambient'!B$12*'Escenari Energia Ambient'!B$23,'Escenari Energia Ambient'!B$22)*'Escenari Energia Ambient'!B$24,$A14*'Escenari Energia Ambient'!B$13*1000)) -> 1400 | I14: =IF($A14<0,0,MIN(MIN('Escenari Energia Ambient'!C$12*'Escenari Energia Ambient'!C$23,'Escenari Energia Ambient'!C$22)*'Escenari Energia Ambient'!C$24,$A14*'Escenari Energia Ambient'!C$13*1000)) -> 1000 | J14: =IF($A14<1,0,MIN(MIN('Escenari Energia Ambient'!D$12*'Escenari Energia Ambient'!D$23,'Escenari Energia Ambient'!D$22)*'Escenari Energia Ambient'!D$24,$A14*'Escenari Energia Ambient'!D$13*1000)) -> 5000 | K14: =H14/('Escenari Energia Ambient'!B$13*$A14*1000) -> 0.18666667 | L14: =I14/('Escenari Energia Ambient'!C$13*$A14*1000) -> 0.16666667 | M14: =J14/('Escenari Energia Ambient'!D$13*$A14*1000) -> 1 | N14: =IF(B14=0,(MIN(MIN('Escenari Energia Ambient'!B$12*'Escenari Energia Ambient'!B$28,'Escenari Energia Ambient'!B$27)*'Escenari Energia Ambient'!B$29,'Escenari Energia Ambient'!B$14)+B14),MIN(MIN('Escenari Energia Ambient'!B$12*'Escenari Energia Ambient'!B$31,'Escenari Energia Ambient'!B$30)*'Escenari Energia Ambient'!B$32,'Escenari Energia Ambient'!B$14+$A14*'Escenari Energia Ambient'!B$13)) -> 1200 | O14: =IF(C14=0,(MIN(MIN('Escenari Energia Ambient'!C$12*'Escenari Energia Ambient'!C$28,'Escenari Energia Ambient'!C$27)*'Escenari Energia Ambient'!C$29,'Escenari Energia Ambient'!C$14)+C14),MIN(MIN('Escenari Energia Ambient'!C$12*'Escenari Energia Ambient'!C$31,'Escenari Energia Ambient'!C$30)*'Escenari Energia Ambient'!C$32,'Escenari Energia Ambient'!C$14+$A14*'Escenari Energia Ambient'!C$13)) -> 1000 | P14: =IF(D14=0,(MIN(MIN('Escenari Energia Ambient'!D$12*'Escenari Energia Ambient'!D$28,'Escenari Energia Ambient'!D$27)*'Escenari Energia Ambient'!D$29,'Escenari Energia Ambient'!D$14)+D14),MIN(MIN('Escenari Energia Ambient'!D$12*'Escenari Energia Ambient'!D$31,'Escenari Energia Ambient'!D$30)*'Escenari Energia Ambient'!D$32,'Escenari Energia Ambient'!D$14+$A14*'Escenari Energia Ambient'!D$13)) -> 24000 | Q14: =N14/('Escenari Energia Ambient'!B$13*$A14*1000+'Escenari Energia Ambient'!B$14) -> 0.082826596 | R14: =O14/('Escenari Energia Ambient'!C$13*$A14*1000+'Escenari Energia Ambient'!C$14) -> 0.076993556 | S14: =P14/('Escenari Energia Ambient'!D$13*$A14*1000+'Escenari Energia Ambient'!D$14) -> 0.36923077
A15: =A14+0.5 -> 5.5 | B15: =IF($A15<1,0,MIN(MIN('Escenari Energia Ambient'!B$12*'Escenari Energia Ambient'!B$18,'Escenari Energia Ambient'!B$17)*'Escenari Energia Ambient'!B$19,$A15*'Escenari Energia Ambient'!B$13*1000)) -> 560 | C15: =IF($A15<0,0,MIN(MIN('Escenari Energia Ambient'!C$12*'Escenari Energia Ambient'!C$18,'Escenari Energia Ambient'!C$17)*'Escenari Energia Ambient'!C$19,$A15*'Escenari Energia Ambient'!C$13*1000)) -> 1000 | D15: =IF($A15<1,0,MIN(MIN('Escenari Energia Ambient'!D$12*'Escenari Energia Ambient'!D$18,'Escenari Energia Ambient'!D$17)*'Escenari Energia Ambient'!D$19,$A15*'Escenari Energia Ambient'!D$13*1000)) -> 5500 | E15: =B15/('Escenari Energia Ambient'!B$13*$A15*1000) -> 0.067878788 | F15: =C15/('Escenari Energia Ambient'!C$13*$A15*1000) -> 0.15151515 | G15: =D15/('Escenari Energia Ambient'!D$13*$A15*1000) -> 1 | H15: =IF($A15<1,0,MIN(MIN('Escenari Energia Ambient'!B$12*'Escenari Energia Ambient'!B$23,'Escenari Energia Ambient'!B$22)*'Escenari Energia Ambient'!B$24,$A15*'Escenari Energia Ambient'!B$13*1000)) -> 1400 | I15: =IF($A15<0,0,MIN(MIN('Escenari Energia Ambient'!C$12*'Escenari Energia Ambient'!C$23,'Escenari Energia Ambient'!C$22)*'Escenari Energia Ambient'!C$24,$A15*'Escenari Energia Ambient'!C$13*1000)) -> 1000 | J15: =IF($A15<1,0,MIN(MIN('Escenari Energia Ambient'!D$12*'Escenari Energia Ambient'!D$23,'Escenari Energia Ambient'!D$22)*'Escenari Energia Ambient'!D$24,$A15*'Escenari Energia Ambient'!D$13*1000)) -> 5500 | K15: =H15/('Escenari Energia Ambient'!B$13*$A15*1000) -> 0.16969697 | L15: =I15/('Escenari Energia Ambient'!C$13*$A15*1000) -> 0.15151515 | M15: =J15/('Escenari Energia Ambient'!D$13*$A15*1000) -> 1 | N15: =IF(B15=0,(MIN(MIN('Escenari Energia Ambient'!B$12*'Escenari Energia Ambient'!B$28,'Escenari Energia Ambient'!B$27)*'Escenari Energia Ambient'!B$29,'Escenari Energia Ambient'!B$14)+B15),MIN(MIN('Escenari Energia Ambient'!B$12*'Escenari Energia Ambient'!B$31,'Escenari Energia Ambient'!B$30)*'Escenari Energia Ambient'!B$32,'Escenari Energia Ambient'!B$14+$A15*'Escenari Energia Ambient'!B$13)) -> 1200 | O15: =IF(C15=0,(MIN(MIN('Escenari Energia Ambient'!C$12*'Escenari Energia Ambient'!C$28,'Escenari Energia Ambient'!C$27)*'Escenari Energia Ambient'!C$29,'Escenari Energia Ambient'!C$14)+C15),MIN(MIN('Escenari Energia Ambient'!C$12*'Escenari Energia Ambient'!C$31,'Escenari Energia Ambient'!C$30)*'Escenari Energia Ambient'!C$32,'Escenari Energia Ambient'!C$14+$A15*'Escenari Energia Ambient'!C$13)) -> 1000 | P15: =IF(D15=0,(MIN(MIN('Escenari Energia Ambient'!D$12*'Escenari Energia Ambient'!D$28,'Escenari Energia Ambient'!D$27)*'Escenari Energia Ambient'!D$29,'Escenari Energia Ambient'!D$14)+D15),MIN(MIN('Escenari Energia Ambient'!D$12*'Escenari Energia Ambient'!D$31,'Escenari Energia Ambient'!D$30)*'Escenari Energia Ambient'!D$32,'Escenari Energia Ambient'!D$14+$A15*'Escenari Energia Ambient'!D$13)) -> 24000 | Q15: =N15/('Escenari Energia Ambient'!B$13*$A15*1000+'Escenari Energia Ambient'!B$14) -> 0.078749975 | R15: =O15/('Escenari Energia Ambient'!C$13*$A15*1000+'Escenari Energia Ambient'!C$14) -> 0.073593806 | S15: =P15/('Escenari Energia Ambient'!D$13*$A15*1000+'Escenari Energia Ambient'!D$14) -> 0.36641221
A16: =A15+0.5 -> 6 | B16: =IF($A16<1,0,MIN(MIN('Escenari Energia Ambient'!B$12*'Escenari Energia Ambient'!B$18,'Escenari Energia Ambient'!B$17)*'Escenari Energia Ambient'!B$19,$A16*'Escenari Energia Ambient'!B$13*1000)) -> 560 | C16: =IF($A16<0,0,MIN(MIN('Escenari Energia Ambient'!C$12*'Escenari Energia Ambient'!C$18,'Escenari Energia Ambient'!C$17)*'Escenari Energia Ambient'!C$19,$A16*'Escenari Energia Ambient'!C$13*1000)) -> 1000 | D16: =IF($A16<1,0,MIN(MIN('Escenari Energia Ambient'!D$12*'Escenari Energia Ambient'!D$18,'Escenari Energia Ambient'!D$17)*'Escenari Energia Ambient'!D$19,$A16*'Escenari Energia Ambient'!D$13*1000)) -> 6000 | E16: =B16/('Escenari Energia Ambient'!B$13*$A16*1000) -> 0.062222222 | F16: =C16/('Escenari Energia Ambient'!C$13*$A16*1000) -> 0.13888889 | G16: =D16/('Escenari Energia Ambient'!D$13*$A16*1000) -> 1 | H16: =IF($A16<1,0,MIN(MIN('Escenari Energia Ambient'!B$12*'Escenari Energia Ambient'!B$23,'Escenari Energia Ambient'!B$22)*'Escenari Energia Ambient'!B$24,$A16*'Escenari Energia Ambient'!B$13*1000)) -> 1400 | I16: =IF($A16<0,0,MIN(MIN('Escenari Energia Ambient'!C$12*'Escenari Energia Ambient'!C$23,'Escenari Energia Ambient'!C$22)*'Escenari Energia Ambient'!C$24,$A16*'Escenari Energia Ambient'!C$13*1000)) -> 1000 | J16: =IF($A16<1,0,MIN(MIN('Escenari Energia Ambient'!D$12*'Escenari Energia Ambient'!D$23,'Escenari Energia Ambient'!D$22)*'Escenari Energia Ambient'!D$24,$A16*'Escenari Energia Ambient'!D$13*1000)) -> 6000 | K16: =H16/('Escenari Energia Ambient'!B$13*$A16*1000) -> 0.15555556 | L16: =I16/('Escenari Energia Ambient'!C$13*$A16*1000) -> 0.13888889 | M16: =J16/('Escenari Energia Ambient'!D$13*$A16*1000) -> 1 | N16: =IF(B16=0,(MIN(MIN('Escenari Energia Ambient'!B$12*'Escenari Energia Ambient'!B$28,'Escenari Energia Ambient'!B$27)*'Escenari Energia Ambient'!B$29,'Escenari Energia Ambient'!B$14)+B16),MIN(MIN('Escenari Energia Ambient'!B$12*'Escenari Energia Ambient'!B$31,'Escenari Energia Ambient'!B$30)*'Escenari Energia Ambient'!B$32,'Escenari Energia Ambient'!B$14+$A16*'Escenari Energia Ambient'!B$13)) -> 1200 | O16: =IF(C16=0,(MIN(MIN('Escenari Energia Ambient'!C$12*'Escenari Energia Ambient'!C$28,'Escenari Energia Ambient'!C$27)*'Escenari Energia Ambient'!C$29,'Escenari Energia Ambient'!C$14)+C16),MIN(MIN('Escenari Energia Ambient'!C$12*'Escenari Energia Ambient'!C$31,'Escenari Energia Ambient'!C$30)*'Escenari Energia Ambient'!C$32,'Escenari Energia Ambient'!C$14+$A16*'Escenari Energia Ambient'!C$13)) -> 1000 | P16: =IF(D16=0,(MIN(MIN('Escenari Energia Ambient'!D$12*'Escenari Energia Ambient'!D$28,'Escenari Energia Ambient'!D$27)*'Escenari Energia Ambient'!D$29,'Escenari Energia Ambient'!D$14)+D16),MIN(MIN('Escenari Energia Ambient'!D$12*'Escenari Energia Ambient'!D$31,'Escenari Energia Ambient'!D$30)*'Escenari Energia Ambient'!D$32,'Escenari Energia Ambient'!D$14+$A16*'Escenari Energia Ambient'!D$13)) -> 24000 | Q16: =N16/('Escenari Energia Ambient'!B$13*$A16*1000+'Escenari Energia Ambient'!B$14) -> 0.075055823 | R16: =O16/('Escenari Energia Ambient'!C$13*$A16*1000+'Escenari Energia Ambient'!C$14) -> 0.070481601 | S16: =P16/('Escenari Energia Ambient'!D$13*$A16*1000+'Escenari Energia Ambient'!D$14) -> 0.36363636
A17: =A16+0.5 -> 6.5 | B17: =IF($A17<1,0,MIN(MIN('Escenari Energia Ambient'!B$12*'Escenari Energia Ambient'!B$18,'Escenari Energia Ambient'!B$17)*'Escenari Energia Ambient'!B$19,$A17*'Escenari Energia Ambient'!B$13*1000)) -> 560 | C17: =IF($A17<0,0,MIN(MIN('Escenari Energia Ambient'!C$12*'Escenari Energia Ambient'!C$18,'Escenari Energia Ambient'!C$17)*'Escenari Energia Ambient'!C$19,$A17*'Escenari Energia Ambient'!C$13*1000)) -> 1000 | D17: =IF($A17<1,0,MIN(MIN('Escenari Energia Ambient'!D$12*'Escenari Energia Ambient'!D$18,'Escenari Energia Ambient'!D$17)*'Escenari Energia Ambient'!D$19,$A17*'Escenari Energia Ambient'!D$13*1000)) -> 6500 | E17: =B17/('Escenari Energia Ambient'!B$13*$A17*1000) -> 0.057435897 | F17: =C17/('Escenari Energia Ambient'!C$13*$A17*1000) -> 0.12820513 | G17: =D17/('Escenari Energia Ambient'!D$13*$A17*1000) -> 1 | H17: =IF($A17<1,0,MIN(MIN('Escenari Energia Ambient'!B$12*'Escenari Energia Ambient'!B$23,'Escenari Energia Ambient'!B$22)*'Escenari Energia Ambient'!B$24,$A17*'Escenari Energia Ambient'!B$13*1000)) -> 1400 | I17: =IF($A17<0,0,MIN(MIN('Escenari Energia Ambient'!C$12*'Escenari Energia Ambient'!C$23,'Escenari Energia Ambient'!C$22)*'Escenari Energia Ambient'!C$24,$A17*'Escenari Energia Ambient'!C$13*1000)) -> 1000 | J17: =IF($A17<1,0,MIN(MIN('Escenari Energia Ambient'!D$12*'Escenari Energia Ambient'!D$23,'Escenari Energia Ambient'!D$22)*'Escenari Energia Ambient'!D$24,$A17*'Escenari Energia Ambient'!D$13*1000)) -> 6500 | K17: =H17/('Escenari Energia Ambient'!B$13*$A17*1000) -> 0.14358974 | L17: =I17/('Escenari Energia Ambient'!C$13*$A17*1000) -> 0.12820513 | M17: =J17/('Escenari Energia Ambient'!D$13*$A17*1000) -> 1 | N17: =IF(B17=0,(MIN(MIN('Escenari Energia Ambient'!B$12*'Escenari Energia Ambient'!B$28,'Escenari Energia Ambient'!B$27)*'Escenari Energia Ambient'!B$29,'Escenari Energia Ambient'!B$14)+B17),MIN(MIN('Escenari Energia Ambient'!B$12*'Escenari Energia Ambient'!B$31,'Escenari Energia Ambient'!B$30)*'Escenari Energia Ambient'!B$32,'Escenari Energia Ambient'!B$14+$A17*'Escenari Energia Ambient'!B$13)) -> 1200 | O17: =IF(C17=0,(MIN(MIN('Escenari Energia Ambient'!C$12*'Escenari Energia Ambient'!C$28,'Escenari Energia Ambient'!C$27)*'Escenari Energia Ambient'!C$29,'Escenari Energia Ambient'!C$14)+C17),MIN(MIN('Escenari Energia Ambient'!C$12*'Escenari Energia Ambient'!C$31,'Escenari Energia Ambient'!C$30)*'Escenari Energia Ambient'!C$32,'Escenari Energia Ambient'!C$14+$A17*'Escenari Energia Ambient'!C$13)) -> 1000 | P17: =IF(D17=0,(MIN(MIN('Escenari Energia Ambient'!D$12*'Escenari Energia Ambient'!D$28,'Escenari Energia Ambient'!D$27)*'Escenari Energia Ambient'!D$29,'Escenari Energia Ambient'!D$14)+D17),MIN(MIN('Escenari Energia Ambient'!D$12*'Escenari Energia Ambient'!D$31,'Escenari Energia Ambient'!D$30)*'Escenari Energia Ambient'!D$32,'Escenari Energia Ambient'!D$14+$A17*'Escenari Energia Ambient'!D$13)) -> 24000 | Q17: =N17/('Escenari Energia Ambient'!B$13*$A17*1000+'Escenari Energia Ambient'!B$14) -> 0.071692725 | R17: =O17/('Escenari Energia Ambient'!C$13*$A17*1000+'Escenari Energia Ambient'!C$14) -> 0.067621939 | S17: =P17/('Escenari Energia Ambient'!D$13*$A17*1000+'Escenari Energia Ambient'!D$14) -> 0.36090226
A18: =A17+0.5 -> 7 | B18: =IF($A18<1,0,MIN(MIN('Escenari Energia Ambient'!B$12*'Escenari Energia Ambient'!B$18,'Escenari Energia Ambient'!B$17)*'Escenari Energia Ambient'!B$19,$A18*'Escenari Energia Ambient'!B$13*1000)) -> 560 | C18: =IF($A18<0,0,MIN(MIN('Escenari Energia Ambient'!C$12*'Escenari Energia Ambient'!C$18,'Escenari Energia Ambient'!C$17)*'Escenari Energia Ambient'!C$19,$A18*'Escenari Energia Ambient'!C$13*1000)) -> 1000 | D18: =IF($A18<1,0,MIN(MIN('Escenari Energia Ambient'!D$12*'Escenari Energia Ambient'!D$18,'Escenari Energia Ambient'!D$17)*'Escenari Energia Ambient'!D$19,$A18*'Escenari Energia Ambient'!D$13*1000)) -> 7000 | E18: =B18/('Escenari Energia Ambient'!B$13*$A18*1000) -> 0.053333333 | F18: =C18/('Escenari Energia Ambient'!C$13*$A18*1000) -> 0.11904762 | G18: =D18/('Escenari Energia Ambient'!D$13*$A18*1000) -> 1 | H18: =IF($A18<1,0,MIN(MIN('Escenari Energia Ambient'!B$12*'Escenari Energia Ambient'!B$23,'Escenari Energia Ambient'!B$22)*'Escenari Energia Ambient'!B$24,$A18*'Escenari Energia Ambient'!B$13*1000)) -> 1400 | I18: =IF($A18<0,0,MIN(MIN('Escenari Energia Ambient'!C$12*'Escenari Energia Ambient'!C$23,'Escenari Energia Ambient'!C$22)*'Escenari Energia Ambient'!C$24,$A18*'Escenari Energia Ambient'!C$13*1000)) -> 1000 | J18: =IF($A18<1,0,MIN(MIN('Escenari Energia Ambient'!D$12*'Escenari Energia Ambient'!D$23,'Escenari Energia Ambient'!D$22)*'Escenari Energia Ambient'!D$24,$A18*'Escenari Energia Ambient'!D$13*1000)) -> 7000 | K18: =H18/('Escenari Energia Ambient'!B$13*$A18*1000) -> 0.13333333 | L18: =I18/('Escenari Energia Ambient'!C$13*$A18*1000) -> 0.11904762 | M18: =J18/('Escenari Energia Ambient'!D$13*$A18*1000) -> 1 | N18: =IF(B18=0,(MIN(MIN('Escenari Energia Ambient'!B$12*'Escenari Energia Ambient'!B$28,'Escenari Energia Ambient'!B$27)*'Escenari Energia Ambient'!B$29,'Escenari Energia Ambient'!B$14)+B18),MIN(MIN('Escenari Energia Ambient'!B$12*'Escenari Energia Ambient'!B$31,'Escenari Energia Ambient'!B$30)*'Escenari Energia Ambient'!B$32,'Escenari Energia Ambient'!B$14+$A18*'Escenari Energia Ambient'!B$13)) -> 1200 | O18: =IF(C18=0,(MIN(MIN('Escenari Energia Ambient'!C$12*'Escenari Energia Ambient'!C$28,'Escenari Energia Ambient'!C$27)*'Escenari Energia Ambient'!C$29,'Escenari Energia Ambient'!C$14)+C18),MIN(MIN('Escenari Energia Ambient'!C$12*'Escenari Energia Ambient'!C$31,'Escenari Energia Ambient'!C$30)*'Escenari Energia Ambient'!C$32,'Escenari Energia Ambient'!C$14+$A18*'Escenari Energia Ambient'!C$13)) -> 1000 | P18: =IF(D18=0,(MIN(MIN('Escenari Energia Ambient'!D$12*'Escenari Energia Ambient'!D$28,'Escenari Energia Ambient'!D$27)*'Escenari Energia Ambient'!D$29,'Escenari Energia Ambient'!D$14)+D18),MIN(MIN('Escenari Energia Ambient'!D$12*'Escenari Energia Ambient'!D$31,'Escenari Energia Ambient'!D$30)*'Escenari Energia Ambient'!D$32,'Escenari Energia Ambient'!D$14+$A18*'Escenari Energia Ambient'!D$13)) -> 24000 | Q18: =N18/('Escenari Energia Ambient'!B$13*$A18*1000+'Escenari Energia Ambient'!B$14) -> 0.068618089 | R18: =O18/('Escenari Energia Ambient'!C$13*$A18*1000+'Escenari Energia Ambient'!C$14) -> 0.064985281 | S18: =P18/('Escenari Energia Ambient'!D$13*$A18*1000+'Escenari Energia Ambient'!D$14) -> 0.35820896
A19: =A18+0.5 -> 7.5 | B19: =IF($A19<1,0,MIN(MIN('Escenari Energia Ambient'!B$12*'Escenari Energia Ambient'!B$18,'Escenari Energia Ambient'!B$17)*'Escenari Energia Ambient'!B$19,$A19*'Escenari Energia Ambient'!B$13*1000)) -> 560 | C19: =IF($A19<0,0,MIN(MIN('Escenari Energia Ambient'!C$12*'Escenari Energia Ambient'!C$18,'Escenari Energia Ambient'!C$17)*'Escenari Energia Ambient'!C$19,$A19*'Escenari Energia Ambient'!C$13*1000)) -> 1000 | D19: =IF($A19<1,0,MIN(MIN('Escenari Energia Ambient'!D$12*'Escenari Energia Ambient'!D$18,'Escenari Energia Ambient'!D$17)*'Escenari Energia Ambient'!D$19,$A19*'Escenari Energia Ambient'!D$13*1000)) -> 7500 | E19: =B19/('Escenari Energia Ambient'!B$13*$A19*1000) -> 0.049777778 | F19: =C19/('Escenari Energia Ambient'!C$13*$A19*1000) -> 0.11111111 | G19: =D19/('Escenari Energia Ambient'!D$13*$A19*1000) -> 1 | H19: =IF($A19<1,0,MIN(MIN('Escenari Energia Ambient'!B$12*'Escenari Energia Ambient'!B$23,'Escenari Energia Ambient'!B$22)*'Escenari Energia Ambient'!B$24,$A19*'Escenari Energia Ambient'!B$13*1000)) -> 1400 | I19: =IF($A19<0,0,MIN(MIN('Escenari Energia Ambient'!C$12*'Escenari Energia Ambient'!C$23,'Escenari Energia Ambient'!C$22)*'Escenari Energia Ambient'!C$24,$A19*'Escenari Energia Ambient'!C$13*1000)) -> 1000 | J19: =IF($A19<1,0,MIN(MIN('Escenari Energia Ambient'!D$12*'Escenari Energia Ambient'!D$23,'Escenari Energia Ambient'!D$22)*'Escenari Energia Ambient'!D$24,$A19*'Escenari Energia Ambient'!D$13*1000)) -> 7500 | K19: =H19/('Escenari Energia Ambient'!B$13*$A19*1000) -> 0.12444444 | L19: =I19/('Escenari Energia Ambient'!C$13*$A19*1000) -> 0.11111111 | M19: =J19/('Escenari Energia Ambient'!D$13*$A19*1000) -> 1 | N19: =IF(B19=0,(MIN(MIN('Escenari Energia Ambient'!B$12*'Escenari Energia Ambient'!B$28,'Escenari Energia Ambient'!B$27)*'Escenari Energia Ambient'!B$29,'Escenari Energia Ambient'!B$14)+B19),MIN(MIN('Escenari Energia Ambient'!B$12*'Escenari Energia Ambient'!B$31,'Escenari Energia Ambient'!B$30)*'Escenari Energia Ambient'!B$32,'Escenari Energia Ambient'!B$14+$A19*'Escenari Energia Ambient'!B$13)) -> 1200 | O19: =IF(C19=0,(MIN(MIN('Escenari Energia Ambient'!C$12*'Escenari Energia Ambient'!C$28,'Escenari Energia Ambient'!C$27)*'Escenari Energia Ambient'!C$29,'Escenari Energia Ambient'!C$14)+C19),MIN(MIN('Escenari Energia Ambient'!C$12*'Escenari Energia Ambient'!C$31,'Escenari Energia Ambient'!C$30)*'Escenari Energia Ambient'!C$32,'Escenari Energia Ambient'!C$14+$A19*'Escenari Energia Ambient'!C$13)) -> 1000 | P19: =IF(D19=0,(MIN(MIN('Escenari Energia Ambient'!D$12*'Escenari Energia Ambient'!D$28,'Escenari Energia Ambient'!D$27)*'Escenari Energia Ambient'!D$29,'Escenari Energia Ambient'!D$14)+D19),MIN(MIN('Escenari Energia Ambient'!D$12*'Escenari Energia Ambient'!D$31,'Escenari Energia Ambient'!D$30)*'Escenari Energia Ambient'!D$32,'Escenari Energia Ambient'!D$14+$A19*'Escenari Energia Ambient'!D$13)) -> 24000 | Q19: =N19/('Escenari Energia Ambient'!B$13*$A19*1000+'Escenari Energia Ambient'!B$14) -> 0.065796327 | R19: =O19/('Escenari Energia Ambient'!C$13*$A19*1000+'Escenari Energia Ambient'!C$14) -> 0.062546519 | S19: =P19/('Escenari Energia Ambient'!D$13*$A19*1000+'Escenari Energia Ambient'!D$14) -> 0.35555556
A20: =A19+0.5 -> 8 | B20: =IF($A20<1,0,MIN(MIN('Escenari Energia Ambient'!B$12*'Escenari Energia Ambient'!B$18,'Escenari Energia Ambient'!B$17)*'Escenari Energia Ambient'!B$19,$A20*'Escenari Energia Ambient'!B$13*1000)) -> 560 | C20: =IF($A20<0,0,MIN(MIN('Escenari Energia Ambient'!C$12*'Escenari Energia Ambient'!C$18,'Escenari Energia Ambient'!C$17)*'Escenari Energia Ambient'!C$19,$A20*'Escenari Energia Ambient'!C$13*1000)) -> 1000 | D20: =IF($A20<1,0,MIN(MIN('Escenari Energia Ambient'!D$12*'Escenari Energia Ambient'!D$18,'Escenari Energia Ambient'!D$17)*'Escenari Energia Ambient'!D$19,$A20*'Escenari Energia Ambient'!D$13*1000)) -> 8000 | E20: =B20/('Escenari Energia Ambient'!B$13*$A20*1000) -> 0.046666667 | F20: =C20/('Escenari Energia Ambient'!C$13*$A20*1000) -> 0.10416667 | G20: =D20/('Escenari Energia Ambient'!D$13*$A20*1000) -> 1 | H20: =IF($A20<1,0,MIN(MIN('Escenari Energia Ambient'!B$12*'Escenari Energia Ambient'!B$23,'Escenari Energia Ambient'!B$22)*'Escenari Energia Ambient'!B$24,$A20*'Escenari Energia Ambient'!B$13*1000)) -> 1400 | I20: =IF($A20<0,0,MIN(MIN('Escenari Energia Ambient'!C$12*'Escenari Energia Ambient'!C$23,'Escenari Energia Ambient'!C$22)*'Escenari Energia Ambient'!C$24,$A20*'Escenari Energia Ambient'!C$13*1000)) -> 1000 | J20: =IF($A20<1,0,MIN(MIN('Escenari Energia Ambient'!D$12*'Escenari Energia Ambient'!D$23,'Escenari Energia Ambient'!D$22)*'Escenari Energia Ambient'!D$24,$A20*'Escenari Energia Ambient'!D$13*1000)) -> 8000 | K20: =H20/('Escenari Energia Ambient'!B$13*$A20*1000) -> 0.11666667 | L20: =I20/('Escenari Energia Ambient'!C$13*$A20*1000) -> 0.10416667 | M20: =J20/('Escenari Energia Ambient'!D$13*$A20*1000) -> 1 | N20: =IF(B20=0,(MIN(MIN('Escenari Energia Ambient'!B$12*'Escenari Energia Ambient'!B$28,'Escenari Energia Ambient'!B$27)*'Escenari Energia Ambient'!B$29,'Escenari Energia Ambient'!B$14)+B20),MIN(MIN('Escenari Energia Ambient'!B$12*'Escenari Energia Ambient'!B$31,'Escenari Energia Ambient'!B$30)*'Escenari Energia Ambient'!B$32,'Escenari Energia Ambient'!B$14+$A20*'Escenari Energia Ambient'!B$13)) -> 1200 | O20: =IF(C20=0,(MIN(MIN('Escenari Energia Ambient'!C$12*'Escenari Energia Ambient'!C$28,'Escenari Energia Ambient'!C$27)*'Escenari Energia Ambient'!C$29,'Escenari Energia Ambient'!C$14)+C20),MIN(MIN('Escenari Energia Ambient'!C$12*'Escenari Energia Ambient'!C$31,'Escenari Energia Ambient'!C$30)*'Escenari Energia Ambient'!C$32,'Escenari Energia Ambient'!C$14+$A20*'Escenari Energia Ambient'!C$13)) -> 1000 | P20: =IF(D20=0,(MIN(MIN('Escenari Energia Ambient'!D$12*'Escenari Energia Ambient'!D$28,'Escenari Energia Ambient'!D$27)*'Escenari Energia Ambient'!D$29,'Escenari Energia Ambient'!D$14)+D20),MIN(MIN('Escenari Energia Ambient'!D$12*'Escenari Energia Ambient'!D$31,'Escenari Energia Ambient'!D$30)*'Escenari Energia Ambient'!D$32,'Escenari Energia Ambient'!D$14+$A20*'Escenari Energia Ambient'!D$13)) -> 24000 | Q20: =N20/('Escenari Energia Ambient'!B$13*$A20*1000+'Escenari Energia Ambient'!B$14) -> 0.063197476 | R20: =O20/('Escenari Energia Ambient'!C$13*$A20*1000+'Escenari Energia Ambient'!C$14) -> 0.06028418 | S20: =P20/('Escenari Energia Ambient'!D$13*$A20*1000+'Escenari Energia Ambient'!D$14) -> 0.35294118
A21: =A20+0.5 -> 8.5 | B21: =IF($A21<1,0,MIN(MIN('Escenari Energia Ambient'!B$12*'Escenari Energia Ambient'!B$18,'Escenari Energia Ambient'!B$17)*'Escenari Energia Ambient'!B$19,$A21*'Escenari Energia Ambient'!B$13*1000)) -> 560 | C21: =IF($A21<0,0,MIN(MIN('Escenari Energia Ambient'!C$12*'Escenari Energia Ambient'!C$18,'Escenari Energia Ambient'!C$17)*'Escenari Energia Ambient'!C$19,$A21*'Escenari Energia Ambient'!C$13*1000)) -> 1000 | D21: =IF($A21<1,0,MIN(MIN('Escenari Energia Ambient'!D$12*'Escenari Energia Ambient'!D$18,'Escenari Energia Ambient'!D$17)*'Escenari Energia Ambient'!D$19,$A21*'Escenari Energia Ambient'!D$13*1000)) -> 8500 | E21: =B21/('Escenari Energia Ambient'!B$13*$A21*1000) -> 0.043921569 | F21: =C21/('Escenari Energia Ambient'!C$13*$A21*1000) -> 0.098039216 | G21: =D21/('Escenari Energia Ambient'!D$13*$A21*1000) -> 1 | H21: =IF($A21<1,0,MIN(MIN('Escenari Energia Ambient'!B$12*'Escenari Energia Ambient'!B$23,'Escenari Energia Ambient'!B$22)*'Escenari Energia Ambient'!B$24,$A21*'Escenari Energia Ambient'!B$13*1000)) -> 1400 | I21: =IF($A21<0,0,MIN(MIN('Escenari Energia Ambient'!C$12*'Escenari Energia Ambient'!C$23,'Escenari Energia Ambient'!C$22)*'Escenari Energia Ambient'!C$24,$A21*'Escenari Energia Ambient'!C$13*1000)) -> 1000 | J21: =IF($A21<1,0,MIN(MIN('Escenari Energia Ambient'!D$12*'Escenari Energia Ambient'!D$23,'Escenari Energia Ambient'!D$22)*'Escenari Energia Ambient'!D$24,$A21*'Escenari Energia Ambient'!D$13*1000)) -> 8500 | K21: =H21/('Escenari Energia Ambient'!B$13*$A21*1000) -> 0.10980392 | L21: =I21/('Escenari Energia Ambient'!C$13*$A21*1000) -> 0.098039216 | M21: =J21/('Escenari Energia Ambient'!D$13*$A21*1000) -> 1 | N21: =IF(B21=0,(MIN(MIN('Escenari Energia Ambient'!B$12*'Escenari Energia Ambient'!B$28,'Escenari Energia Ambient'!B$27)*'Escenari Energia Ambient'!B$29,'Escenari Energia Ambient'!B$14)+B21),MIN(MIN('Escenari Energia Ambient'!B$12*'Escenari Energia Ambient'!B$31,'Escenari Energia Ambient'!B$30)*'Escenari Energia Ambient'!B$32,'Escenari Energia Ambient'!B$14+$A21*'Escenari Energia Ambient'!B$13)) -> 1200 | O21: =IF(C21=0,(MIN(MIN('Escenari Energia Ambient'!C$12*'Escenari Energia Ambient'!C$28,'Escenari Energia Ambient'!C$27)*'Escenari Energia Ambient'!C$29,'Escenari Energia Ambient'!C$14)+C21),MIN(MIN('Escenari Energia Ambient'!C$12*'Escenari Energia Ambient'!C$31,'Escenari Energia Ambient'!C$30)*'Escenari Energia Ambient'!C$32,'Escenari Energia Ambient'!C$14+$A21*'Escenari Energia Ambient'!C$13)) -> 1000 | P21: =IF(D21=0,(MIN(MIN('Escenari Energia Ambient'!D$12*'Escenari Energia Ambient'!D$28,'Escenari Energia Ambient'!D$27)*'Escenari Energia Ambient'!D$29,'Escenari Energia Ambient'!D$14)+D21),MIN(MIN('Escenari Energia Ambient'!D$12*'Escenari Energia Ambient'!D$31,'Escenari Energia Ambient'!D$30)*'Escenari Energia Ambient'!D$32,'Escenari Energia Ambient'!D$14+$A21*'Escenari Energia Ambient'!D$13)) -> 24000 | Q21: =N21/('Escenari Energia Ambient'!B$13*$A21*1000+'Escenari Energia Ambient'!B$14) -> 0.060796125 | R21: =O21/('Escenari Energia Ambient'!C$13*$A21*1000+'Escenari Energia Ambient'!C$14) -> 0.058179787 | S21: =P21/('Escenari Energia Ambient'!D$13*$A21*1000+'Escenari Energia Ambient'!D$14) -> 0.35036496
... A104: =A103+0.5 -> 50 | B104: =IF($A104<1,0,MIN(MIN('Escenari Energia Ambient'!B$12*'Escenari Energia Ambient'!B$18,'Escenari Energia Ambient'!B$17)*'Escenari Energia Ambient'!B$19,$A104*'Escenari Energia Ambient'!B$13*1000)) -> 560 | C104: =IF($A104<0,0,MIN(MIN('Escenari Energia Ambient'!C$12*'Escenari Energia Ambient'!C$18,'Escenari Energia Ambient'!C$17)*'Escenari Energia Ambient'!C$19,$A104*'Escenari Energia Ambient'!C$13*1000)) -> 1000 | D104: =IF($A104<1,0,MIN(MIN('Escenari Energia Ambient'!D$12*'Escenari Energia Ambient'!D$18,'Escenari Energia Ambient'!D$17)*'Escenari Energia Ambient'!D$19,$A104*'Escenari Energia Ambient'!D$13*1000)) -> 12000 | E104: =B104/('Escenari Energia Ambient'!B$13*$A104*1000) -> 0.0074666667 | F104: =C104/('Escenari Energia Ambient'!C$13*$A104*1000) -> 0.016666667 | G104: =D104/('Escenari Energia Ambient'!D$13*$A104*1000) -> 0.24 | H104: =IF($A104<1,0,MIN(MIN('Escenari Energia Ambient'!B$12*'Escenari Energia Ambient'!B$23,'Escenari Energia Ambient'!B$22)*'Escenari Energia Ambient'!B$24,$A104*'Escenari Energia Ambient'!B$13*1000)) -> 1400 | I104: =IF($A104<0,0,MIN(MIN('Escenari Energia Ambient'!C$12*'Escenari Energia Ambient'!C$23,'Escenari Energia Ambient'!C$22)*'Escenari Energia Ambient'!C$24,$A104*'Escenari Energia Ambient'!C$13*1000)) -> 1000 | J104: =IF($A104<1,0,MIN(MIN('Escenari Energia Ambient'!D$12*'Escenari Energia Ambient'!D$23,'Escenari Energia Ambient'!D$22)*'Escenari Energia Ambient'!D$24,$A104*'Escenari Energia Ambient'!D$13*1000)) -> 20000 | K104: =H104/('Escenari Energia Ambient'!B$13*$A104*1000) -> 0.018666667 | L104: =I104/('Escenari Energia Ambient'!C$13*$A104*1000) -> 0.016666667 | M104: =J104/('Escenari Energia Ambient'!D$13*$A104*1000) -> 0.4 | N104: =IF(B104=0,(MIN(MIN('Escenari Energia Ambient'!B$12*'Escenari Energia Ambient'!B$28,'Escenari Energia Ambient'!B$27)*'Escenari Energia Ambient'!B$29,'Escenari Energia Ambient'!B$14)+B104),MIN(MIN('Escenari Energia Ambient'!B$12*'Escenari Energia Ambient'!B$31,'Escenari Energia Ambient'!B$30)*'Escenari Energia Ambient'!B$32,'Escenari Energia Ambient'!B$14+$A104*'Escenari Energia Ambient'!B$13)) -> 1200 | O104: =IF(C104=0,(MIN(MIN('Escenari Energia Ambient'!C$12*'Escenari Energia Ambient'!C$28,'Escenari Energia Ambient'!C$27)*'Escenari Energia Ambient'!C$29,'Escenari Energia Ambient'!C$14)+C104),MIN(MIN('Escenari Energia Ambient'!C$12*'Escenari Energia Ambient'!C$31,'Escenari Energia Ambient'!C$30)*'Escenari Energia Ambient'!C$32,'Escenari Energia Ambient'!C$14+$A104*'Escenari Energia Ambient'!C$13)) -> 1000 | P104: =IF(D104=0,(MIN(MIN('Escenari Energia Ambient'!D$12*'Escenari Energia Ambient'!D$28,'Escenari Energia Ambient'!D$27)*'Escenari Energia Ambient'!D$29,'Escenari Energia Ambient'!D$14)+D104),MIN(MIN('Escenari Energia Ambient'!D$12*'Escenari Energia Ambient'!D$31,'Escenari Energia Ambient'!D$30)*'Escenari Energia Ambient'!D$32,'Escenari Energia Ambient'!D$14+$A104*'Escenari Energia Ambient'!D$13)) -> 24000 | Q104: =N104/('Escenari Energia Ambient'!B$13*$A104*1000+'Escenari Energia Ambient'!B$14) -> 0.01463627 | R104: =O104/('Escenari Energia Ambient'!C$13*$A104*1000+'Escenari Energia Ambient'!C$14) -> 0.014928025 | S104: =P104/('Escenari Energia Ambient'!D$13*$A104*1000+'Escenari Energia Ambient'!D$14) -> 0.21818182
